BEGIN:VCALENDAR
VERSION:2.0
PRODID:-//Napsugár Bábszínház - ECPv6.15.20//NONSGML v1.0//EN
CALSCALE:GREGORIAN
METHOD:PUBLISH
X-ORIGINAL-URL:https://napsugarbabszinhaz.hu
X-WR-CALDESC:Események Napsugár Bábszínház
REFRESH-INTERVAL;VALUE=DURATION:PT1H
X-Robots-Tag:noindex
X-PUBLISHED-TTL:PT1H
BEGIN:VTIMEZONE
TZID:UTC
BEGIN:STANDARD
TZOFFSETFROM:+0000
TZOFFSETTO:+0000
TZNAME:UTC
DTSTART:20240101T000000
END:STANDARD
END:VTIMEZONE
BEGIN:VTIMEZONE
TZID:Europe/Budapest
BEGIN:DAYLIGHT
TZOFFSETFROM:+0100
TZOFFSETTO:+0200
TZNAME:CEST
DTSTART:20230326T010000
END:DAYLIGHT
BEGIN:STANDARD
TZOFFSETFROM:+0200
TZOFFSETTO:+0100
TZNAME:CET
DTSTART:20231029T010000
END:STANDARD
BEGIN:DAYLIGHT
TZOFFSETFROM:+0100
TZOFFSETTO:+0200
TZNAME:CEST
DTSTART:20240331T010000
END:DAYLIGHT
BEGIN:STANDARD
TZOFFSETFROM:+0200
TZOFFSETTO:+0100
TZNAME:CET
DTSTART:20241027T010000
END:STANDARD
BEGIN:DAYLIGHT
TZOFFSETFROM:+0100
TZOFFSETTO:+0200
TZNAME:CEST
DTSTART:20250330T010000
END:DAYLIGHT
BEGIN:STANDARD
TZOFFSETFROM:+0200
TZOFFSETTO:+0100
TZNAME:CET
DTSTART:20251026T010000
END:STANDARD
BEGIN:DAYLIGHT
TZOFFSETFROM:+0100
TZOFFSETTO:+0200
TZNAME:CEST
DTSTART:20260329T010000
END:DAYLIGHT
BEGIN:STANDARD
TZOFFSETFROM:+0200
TZOFFSETTO:+0100
TZNAME:CET
DTSTART:20261025T010000
END:STANDARD
END:VTIMEZONE
BEGIN:VTIMEZONE
TZID:Europe/Paris
BEGIN:DAYLIGHT
TZOFFSETFROM:+0100
TZOFFSETTO:+0200
TZNAME:CEST
DTSTART:20230326T010000
END:DAYLIGHT
BEGIN:STANDARD
TZOFFSETFROM:+0200
TZOFFSETTO:+0100
TZNAME:CET
DTSTART:20231029T010000
END:STANDARD
BEGIN:DAYLIGHT
TZOFFSETFROM:+0100
TZOFFSETTO:+0200
TZNAME:CEST
DTSTART:20240331T010000
END:DAYLIGHT
BEGIN:STANDARD
TZOFFSETFROM:+0200
TZOFFSETTO:+0100
TZNAME:CET
DTSTART:20241027T010000
END:STANDARD
BEGIN:DAYLIGHT
TZOFFSETFROM:+0100
TZOFFSETTO:+0200
TZNAME:CEST
DTSTART:20250330T010000
END:DAYLIGHT
BEGIN:STANDARD
TZOFFSETFROM:+0200
TZOFFSETTO:+0100
TZNAME:CET
DTSTART:20251026T010000
END:STANDARD
END:VTIMEZONE
BEGIN:VEVENT
DTSTART;TZID=UTC:20251004T160000
DTEND;TZID=UTC:20251004T170000
DTSTAMP:20260421T162250
CREATED:20240313T123121Z
LAST-MODIFIED:20250916T131417Z
UID:10000112-1759593600-1759597200@napsugarbabszinhaz.hu
SUMMARY:Csíkos csoda
DESCRIPTION: \n \n \nTik\, Tak… Tik\, Tak… Két manó lakik az órában. Ismerkednek\, játszanak\, mindent kipróbálnak\, mindenre felmásznak. Néha persze össze is vesznek. De játszani és felfedezni együtt jó igazán! Így lehet csíkokból autó\, házikó\, csúszda\, és még annyi minden más!\n \n \nZenél: Lovas GáborTerveő: L. Deák RékaRendező: Csortán ZsókaSzereplők: Csortán Zsóka\, Gyarmati Éva\n \n4 éves korig ajánlott!
URL:https://napsugarbabszinhaz.hu/event/csikos-csoda-3/
LOCATION:Napsugár Bábszínház Kis-terem\, Gyulai út 2/1.\, Békéscsaba\, 5600
CATEGORIES:Babaszínház
ATTACH;FMTTYPE=image/jpeg:https://napsugarbabszinhaz.hu/wp-content/uploads/2024/02/IMG_0250.jpg
ORGANIZER;CN="Napsug%C3%A1r B%C3%A1bsz%C3%ADnh%C3%A1z":MAILTO:napsugarbabszinhaz@gmail.com
END:VEVENT
BEGIN:VEVENT
DTSTART;TZID=Europe/Budapest:20250222T160000
DTEND;TZID=Europe/Budapest:20250222T170000
DTSTAMP:20260421T162250
CREATED:20241121T104430Z
LAST-MODIFIED:20250217T064535Z
UID:10000215-1740240000-1740243600@napsugarbabszinhaz.hu
SUMMARY:Hej\, tulipán!
DESCRIPTION:Hogyan alakul ki a VILÁG? Járjuk körbe együtt! A népi motívumokra épülő játék során megteremtődik az ég\, a föld\, a Nap\, a Hold\, a csillagok\, a vizek… virágok\, állatok. Gyere el\, és teremtsünk együtt egy színes VILÁGOT! \n\n\n\n \n\n\n\nzene: Lovas Gábortervező: L. Deák Rékarendező: Csortán Erzsébetjátssza: Czumbil Emőke \n\n\n\nAz előadás 4 éves korig ajánlott!
URL:https://napsugarbabszinhaz.hu/event/hej-tulipan-3/
LOCATION:Napsugár Bábszínház Kis-terem\, Gyulai út 2/1.\, Békéscsaba\, 5600
ATTACH;FMTTYPE=image/jpeg:https://napsugarbabszinhaz.hu/wp-content/uploads/2024/04/Hej_tulipan.jpg
ORGANIZER;CN="Napsug%C3%A1r B%C3%A1bsz%C3%ADnh%C3%A1z":MAILTO:napsugarbabszinhaz@gmail.com
END:VEVENT
BEGIN:VEVENT
DTSTART;TZID=Europe/Budapest:20250125T160000
DTEND;TZID=Europe/Budapest:20250125T170000
DTSTAMP:20260421T162250
CREATED:20241121T102734Z
LAST-MODIFIED:20241121T103653Z
UID:10000214-1737820800-1737824400@napsugarbabszinhaz.hu
SUMMARY:Pöttöm pöttyön pöttyös pötty
DESCRIPTION:Színes pöttyös párnákból hogyan lesz elefánt\, oroszlán\, zsiráf\, egér és még sok-sok állat? \n\n\n\nVarázslatos manókezek gyúrják\, csavarják\, forgatják\, míg újabb és újabb meglepetés-állat kerül ki színes kuckójukból. Különböző   hangszerek szólalnak meg egy-egy állat karakteréhez igazodva. Ritmusjáték\, taps és tánc\, szórakoztató átváltozások teszik színessé a figurák megjelenését. Izgalmas tárgyjáték a legkisebbeknek. \n\n\n\n \n\n\n\nJátsszák: Biró Gyula\, Czumbil Emőke/Soós Emőke\, Czumbil Örs \n\n\n\nZene: Lovas Gábor \n\n\n\nTervező: L. Deák Réka \n\n\n\nRendezte: Csortán Zsóka \n\n\n\n \n\n\n\nAz előadást 0-4 éves korig ajánljuk!
URL:https://napsugarbabszinhaz.hu/event/pottyos-pottyon-pottyos-potty/
LOCATION:Napsugár Bábszínház Kis-terem\, Gyulai út 2/1.\, Békéscsaba\, 5600
CATEGORIES:Babaszínház
ATTACH;FMTTYPE=image/jpeg:https://napsugarbabszinhaz.hu/wp-content/uploads/2024/11/Pottyos.jpg
ORGANIZER;CN="Napsug%C3%A1r B%C3%A1bsz%C3%ADnh%C3%A1z":MAILTO:napsugarbabszinhaz@gmail.com
END:VEVENT
BEGIN:VEVENT
DTSTART;TZID=Europe/Budapest:20240914T160000
DTEND;TZID=Europe/Budapest:20240914T170000
DTSTAMP:20260421T162250
CREATED:20240823T082031Z
LAST-MODIFIED:20240909T135359Z
UID:10000166-1726329600-1726333200@napsugarbabszinhaz.hu
SUMMARY:Kockavarázs
DESCRIPTION:Végy egy nagy bűvös kockát\, rejts el benne dolgokat\, s ami onnan kikerül\, az már nem lesz ugyanaz. Építhetünk\, formálhatunk\, csak a képzelet szab határt…. Csodák történnek zenével kísérve. Ez a Kockavarázs! \n\n\n\n \n\n\n\nJátssza: Biró GyulaZene: Rákóczi AntalTervező: L. Deák RékaRendező: Csortán Zsóka \n\n\n\n \n\n\n\nAjánlott 4 éves kor alatt!
URL:https://napsugarbabszinhaz.hu/event/kockavarazs-2/
LOCATION:Napsugár Bábszínház Kis-terem\, Gyulai út 2/1.\, Békéscsaba\, 5600
ATTACH;FMTTYPE=image/jpeg:https://napsugarbabszinhaz.hu/wp-content/uploads/2024/04/Kockavarazs.jpg
END:VEVENT
BEGIN:VEVENT
DTSTART;TZID=Europe/Budapest:20240914T100000
DTEND;TZID=Europe/Budapest:20240914T110000
DTSTAMP:20260421T162250
CREATED:20240823T081925Z
LAST-MODIFIED:20240910T061533Z
UID:10000165-1726308000-1726311600@napsugarbabszinhaz.hu
SUMMARY:Kockavarázs
DESCRIPTION:Végy egy nagy bűvös kockát\, rejts el benne dolgokat\, s ami onnan kikerül\, az már nem lesz ugyanaz. Építhetünk\, formálhatunk\, csak a képzelet szab határt…. Csodák történnek zenével kísérve. Ez a Kockavarázs! \n\n\n\n \n\n\n\nJátssza: Biró GyulaZene: Rákóczi AntalTervező: L. Deák RékaRendező: Csortán Zsóka \n\n\n\n \n\n\n\nAjánlott 4 éves kor alatt!
URL:https://napsugarbabszinhaz.hu/event/kockavarazs/
LOCATION:Napsugár Bábszínház Kis-terem\, Gyulai út 2/1.\, Békéscsaba\, 5600
ATTACH;FMTTYPE=image/jpeg:https://napsugarbabszinhaz.hu/wp-content/uploads/2024/04/Kockavarazs.jpg
END:VEVENT
BEGIN:VEVENT
DTSTART;TZID=Europe/Paris:20240511T160000
DTEND;TZID=Europe/Paris:20240511T170000
DTSTAMP:20260421T162250
CREATED:20240313T131300Z
LAST-MODIFIED:20240322T093739Z
UID:10000117-1715443200-1715446800@napsugarbabszinhaz.hu
SUMMARY:A bagoly\, aki félt a sötétben
DESCRIPTION:Hupp\, a kis bagolyfióka\, hét éjszaka során újabb és újabb oldaláról ismeri meg a sötétséget\, míg végül legyőzi a félelmét. Az első éjjel egy tűzijátékot néz meg\, a másodikon egy öreg néni meséli el\, hogy a sötétség kedves\, mert eltakarja a szemünk elől a csúnya dolgokat. Hupp a harmadik napon egy tábortűzhöz repül\, a negyediken megtudja\, hogy a sötétségre szükség van\, mert akkor jön a Télapó\, az ötödiken éjszakai állatokkal ismerkedik meg\, a hatodikon távcsővel nézi a csillagokat. A hetedik éjjelen Hupp végül találkozik Orionnal\, a macskával\, aki már arra tanítja meg\, hogy a sötétség önmagában is gyönyörű. \n  \n  \nDramaturg: Markó Róbert \nZene: Csernák Zoltán Samu \nTervező: Rofusz Kinga \nKoreográfia: Góbi Rita \nRendező: Bartal Kiss Rita (Blattner-díjas) \n  \n4 éves kortól ajánljuk!
URL:https://napsugarbabszinhaz.hu/event/babszinhaz-2/
LOCATION:Napsugár Bábszínház Kis-terem\, Gyulai út 2/1.\, Békéscsaba\, 5600
CATEGORIES:Napsugaras délutánok
ATTACH;FMTTYPE=image/jpeg:https://napsugarbabszinhaz.hu/wp-content/uploads/2024/02/IMG_2021-scaled.jpg
ORGANIZER;CN="Napsug%C3%A1r B%C3%A1bsz%C3%ADnh%C3%A1z":MAILTO:napsugarbabszinhaz@gmail.com
END:VEVENT
BEGIN:VEVENT
DTSTART;TZID=Europe/Paris:20240420T160000
DTEND;TZID=Europe/Paris:20240420T170000
DTSTAMP:20260421T162250
CREATED:20240313T122213Z
LAST-MODIFIED:20240321T140000Z
UID:10000111-1713628800-1713632400@napsugarbabszinhaz.hu
SUMMARY:Bíbele\, bíbele\, paccs!
DESCRIPTION:Három barát találkozik. Közös játékba kezdenek\, összevesznek\, kibékülnek\, ahogy az már a játék hevében lenni szokott. Létrából lesz hangszer\, dobozokból ház\, párnákból ember. Csodahárfa\, varázsdoboz\, szépen szóló ütős hangszer kíséri a játékot. Varázslat kápráztatja el a kis nézőket. \n\n\n\n \n\n\n\nDíszlet- jelmez- és bábtervező: Deák Réka \n\n\n\nZene: Lovas Gábor \n\n\n\nRendező: Csortán Erzsébet \n\n\n\nJátsszák: Czumbil Örs\, Czumbil Emőke / Gyarmati Éva\, Csortán Erzsébet \n\n\n\n \n\n\n\nAz előadást 0-4 éves korig ajánljuk! \n\n\n\n\nhttps://www.jegy.hu/program/bibele-bibele-paccs-156913
URL:https://napsugarbabszinhaz.hu/event/bibele-bibele-paccs/
LOCATION:Napsugár Bábszínház Kis-terem\, Gyulai út 2/1.\, Békéscsaba\, 5600
CATEGORIES:Babaszínház
ATTACH;FMTTYPE=image/jpeg:https://napsugarbabszinhaz.hu/wp-content/uploads/2024/03/MG_4415-scaled.jpg
ORGANIZER;CN="Napsug%C3%A1r B%C3%A1bsz%C3%ADnh%C3%A1z":MAILTO:napsugarbabszinhaz@gmail.com
END:VEVENT
BEGIN:VEVENT
DTSTART;TZID=Europe/Paris:20240420T100000
DTEND;TZID=Europe/Paris:20240420T110000
DTSTAMP:20260421T162250
CREATED:20240321T135745Z
LAST-MODIFIED:20240321T135917Z
UID:10000110-1713607200-1713610800@napsugarbabszinhaz.hu
SUMMARY:Bíbele\, bíbele\, paccs!
DESCRIPTION:Három barát találkozik. Közös játékba kezdenek\, összevesznek\, kibékülnek\, ahogy az már a játék hevében lenni szokott. Létrából lesz hangszer\, dobozokból ház\, párnákból ember. Csodahárfa\, varázsdoboz\, szépen szóló ütős hangszer kíséri a játékot. Varázslat kápráztatja el a kis nézőket. \n\n\n\n \n\n\n\nDíszlet- jelmez- és bábtervező: Deák Réka \n\n\n\nZene: Lovas Gábor \n\n\n\nRendező: Csortán Erzsébet \n\n\n\nJátsszák: Czumbil Örs\, Czumbil Emőke / Gyarmati Éva\, Csortán Erzsébet \n\n\n\n \n\n\n\nAz előadást 0-4 éves korig ajánljuk! \n\n\n\n\nhttps://www.jegy.hu/program/bibele-bibele-paccs-156913
URL:https://napsugarbabszinhaz.hu/event/bibele-bibele-paccs-2/
LOCATION:Napsugár Bábszínház Kis-terem\, Gyulai út 2/1.\, Békéscsaba\, 5600
CATEGORIES:Babaszínház
ATTACH;FMTTYPE=image/jpeg:https://napsugarbabszinhaz.hu/wp-content/uploads/2024/03/MG_4415-scaled.jpg
ORGANIZER;CN="Napsug%C3%A1r B%C3%A1bsz%C3%ADnh%C3%A1z":MAILTO:napsugarbabszinhaz@gmail.com
END:VEVENT
END:VCALENDAR