BEGIN:VCALENDAR
VERSION:2.0
PRODID:-//Napsugár Bábszínház - ECPv6.15.20//NONSGML v1.0//EN
CALSCALE:GREGORIAN
METHOD:PUBLISH
X-ORIGINAL-URL:https://napsugarbabszinhaz.hu
X-WR-CALDESC:Események Napsugár Bábszínház
REFRESH-INTERVAL;VALUE=DURATION:PT1H
X-Robots-Tag:noindex
X-PUBLISHED-TTL:PT1H
BEGIN:VTIMEZONE
TZID:Europe/Budapest
BEGIN:DAYLIGHT
TZOFFSETFROM:+0100
TZOFFSETTO:+0200
TZNAME:CEST
DTSTART:20240331T010000
END:DAYLIGHT
BEGIN:STANDARD
TZOFFSETFROM:+0200
TZOFFSETTO:+0100
TZNAME:CET
DTSTART:20241027T010000
END:STANDARD
BEGIN:DAYLIGHT
TZOFFSETFROM:+0100
TZOFFSETTO:+0200
TZNAME:CEST
DTSTART:20250330T010000
END:DAYLIGHT
BEGIN:STANDARD
TZOFFSETFROM:+0200
TZOFFSETTO:+0100
TZNAME:CET
DTSTART:20251026T010000
END:STANDARD
BEGIN:DAYLIGHT
TZOFFSETFROM:+0100
TZOFFSETTO:+0200
TZNAME:CEST
DTSTART:20260329T010000
END:DAYLIGHT
BEGIN:STANDARD
TZOFFSETFROM:+0200
TZOFFSETTO:+0100
TZNAME:CET
DTSTART:20261025T010000
END:STANDARD
END:VTIMEZONE
BEGIN:VEVENT
DTSTART;TZID=Europe/Budapest:20250512T100000
DTEND;TZID=Europe/Budapest:20250512T110000
DTSTAMP:20260420T094436
CREATED:20250304T095338Z
LAST-MODIFIED:20250506T093708Z
UID:10000248-1747044000-1747047600@napsugarbabszinhaz.hu
SUMMARY:A kakaska krajcárkái
DESCRIPTION:Előadásunk a román népmesék világába kalauzol bennünket\, oly módon\, hogy közben mindvégig otthon érezzük magunkat. Hogy miért? Mert a népmesék határokat átívelő\, mélységes igazság-világába csöppentünk\, ahol emberi természetünkre legvalódibb mivoltában ismerhetünk rá. Ráadásul úgy\, hogy közben nevetünk\, dalolunk\, rigmusokat faragunk\, és minduntalan ráismerünk magyar népmeséink alapmotívumaira is. Nem meglepő\, hiszen az egymás mellett élő nemzetek gyakran átveszik egymástól kultúráik elemeit. És a legalapvetőbb szembenállások mindenhol ugyanazok: a jó és a gonosz\, a hamis és igaz\, az értékes és értéktelen. Ion Creangă\, a román irodalom legnagyobb mesemondójaként\, a népi lélek ismerőjeként válogatta és hagyományozta a már gyermekként megismert történeteket\, akár nálunk\, magyaroknál Benedek Elek. \n\n\n\nA kakaska krajcárkáiért – igazságáért – folytatott kalandsorozata\, kitartása és győzelme minden bizonnyal a legpozitívabb emberi minőségek oldalára állítják az érző gyermeki lelket. \n\n\n\nElőadásunkban paravános játékként láthatjuk a darabot\, melyben hagyományos\, kesztyűs bábok játsszák a főszerepet – ahogyan annak idején szüleink is megszerették a bábszínházat. \n\n\n\nA mesét Farkas Wellmann Éva fordította\, dolgozta át és alkalmazta bábszínpadra \n\n\n\nZeneszerző: Lovas Gábor \n\n\n\nTervezte: Lenkefi Deák Réka \n\n\n\nAz ötletgazda és játékmester Soós Emőke \n\n\n\nAz előadást 4 éves kortól ajánljuk.
URL:https://napsugarbabszinhaz.hu/event/a-kakaska-krajcarkai/2025-05-12/1/
LOCATION:Napsugár Bábszínház\, Színház terem\, Gyulai út\, Békéscsaba\, 16655874-2-04\, 5600
CATEGORIES:Iskolásoknak,Óvodásoknak
ATTACH;FMTTYPE=image/jpeg:https://napsugarbabszinhaz.hu/wp-content/uploads/2025/05/untitled-32-of-32.jpg
ORGANIZER;CN="Napsug%C3%A1r B%C3%A1bsz%C3%ADnh%C3%A1z":MAILTO:napsugarbabszinhaz@gmail.com
END:VEVENT
BEGIN:VEVENT
DTSTART;TZID=Europe/Budapest:20250512T140000
DTEND;TZID=Europe/Budapest:20250512T150000
DTSTAMP:20260420T094436
CREATED:20250304T095338Z
LAST-MODIFIED:20250506T093708Z
UID:10000249-1747058400-1747062000@napsugarbabszinhaz.hu
SUMMARY:A kakaska krajcárkái
DESCRIPTION:Előadásunk a román népmesék világába kalauzol bennünket\, oly módon\, hogy közben mindvégig otthon érezzük magunkat. Hogy miért? Mert a népmesék határokat átívelő\, mélységes igazság-világába csöppentünk\, ahol emberi természetünkre legvalódibb mivoltában ismerhetünk rá. Ráadásul úgy\, hogy közben nevetünk\, dalolunk\, rigmusokat faragunk\, és minduntalan ráismerünk magyar népmeséink alapmotívumaira is. Nem meglepő\, hiszen az egymás mellett élő nemzetek gyakran átveszik egymástól kultúráik elemeit. És a legalapvetőbb szembenállások mindenhol ugyanazok: a jó és a gonosz\, a hamis és igaz\, az értékes és értéktelen. Ion Creangă\, a román irodalom legnagyobb mesemondójaként\, a népi lélek ismerőjeként válogatta és hagyományozta a már gyermekként megismert történeteket\, akár nálunk\, magyaroknál Benedek Elek. \n\n\n\nA kakaska krajcárkáiért – igazságáért – folytatott kalandsorozata\, kitartása és győzelme minden bizonnyal a legpozitívabb emberi minőségek oldalára állítják az érző gyermeki lelket. \n\n\n\nElőadásunkban paravános játékként láthatjuk a darabot\, melyben hagyományos\, kesztyűs bábok játsszák a főszerepet – ahogyan annak idején szüleink is megszerették a bábszínházat. \n\n\n\nA mesét Farkas Wellmann Éva fordította\, dolgozta át és alkalmazta bábszínpadra \n\n\n\nZeneszerző: Lovas Gábor \n\n\n\nTervezte: Lenkefi Deák Réka \n\n\n\nAz ötletgazda és játékmester Soós Emőke \n\n\n\nAz előadást 4 éves kortól ajánljuk.
URL:https://napsugarbabszinhaz.hu/event/a-kakaska-krajcarkai/2025-05-12/2/
LOCATION:Napsugár Bábszínház\, Színház terem\, Gyulai út\, Békéscsaba\, 16655874-2-04\, 5600
CATEGORIES:Iskolásoknak,Óvodásoknak
ATTACH;FMTTYPE=image/jpeg:https://napsugarbabszinhaz.hu/wp-content/uploads/2025/05/untitled-32-of-32.jpg
ORGANIZER;CN="Napsug%C3%A1r B%C3%A1bsz%C3%ADnh%C3%A1z":MAILTO:napsugarbabszinhaz@gmail.com
END:VEVENT
BEGIN:VEVENT
DTSTART;TZID=Europe/Budapest:20250513T100000
DTEND;TZID=Europe/Budapest:20250513T110000
DTSTAMP:20260420T094436
CREATED:20250304T095338Z
LAST-MODIFIED:20250506T093708Z
UID:10000250-1747130400-1747134000@napsugarbabszinhaz.hu
SUMMARY:A kakaska krajcárkái
DESCRIPTION:Előadásunk a román népmesék világába kalauzol bennünket\, oly módon\, hogy közben mindvégig otthon érezzük magunkat. Hogy miért? Mert a népmesék határokat átívelő\, mélységes igazság-világába csöppentünk\, ahol emberi természetünkre legvalódibb mivoltában ismerhetünk rá. Ráadásul úgy\, hogy közben nevetünk\, dalolunk\, rigmusokat faragunk\, és minduntalan ráismerünk magyar népmeséink alapmotívumaira is. Nem meglepő\, hiszen az egymás mellett élő nemzetek gyakran átveszik egymástól kultúráik elemeit. És a legalapvetőbb szembenállások mindenhol ugyanazok: a jó és a gonosz\, a hamis és igaz\, az értékes és értéktelen. Ion Creangă\, a román irodalom legnagyobb mesemondójaként\, a népi lélek ismerőjeként válogatta és hagyományozta a már gyermekként megismert történeteket\, akár nálunk\, magyaroknál Benedek Elek. \n\n\n\nA kakaska krajcárkáiért – igazságáért – folytatott kalandsorozata\, kitartása és győzelme minden bizonnyal a legpozitívabb emberi minőségek oldalára állítják az érző gyermeki lelket. \n\n\n\nElőadásunkban paravános játékként láthatjuk a darabot\, melyben hagyományos\, kesztyűs bábok játsszák a főszerepet – ahogyan annak idején szüleink is megszerették a bábszínházat. \n\n\n\nA mesét Farkas Wellmann Éva fordította\, dolgozta át és alkalmazta bábszínpadra \n\n\n\nZeneszerző: Lovas Gábor \n\n\n\nTervezte: Lenkefi Deák Réka \n\n\n\nAz ötletgazda és játékmester Soós Emőke \n\n\n\nAz előadást 4 éves kortól ajánljuk.
URL:https://napsugarbabszinhaz.hu/event/a-kakaska-krajcarkai/2025-05-13/
LOCATION:Napsugár Bábszínház\, Színház terem\, Gyulai út\, Békéscsaba\, 16655874-2-04\, 5600
CATEGORIES:Iskolásoknak,Óvodásoknak
ATTACH;FMTTYPE=image/jpeg:https://napsugarbabszinhaz.hu/wp-content/uploads/2025/05/untitled-32-of-32.jpg
ORGANIZER;CN="Napsug%C3%A1r B%C3%A1bsz%C3%ADnh%C3%A1z":MAILTO:napsugarbabszinhaz@gmail.com
END:VEVENT
BEGIN:VEVENT
DTSTART;TZID=Europe/Budapest:20250514T100000
DTEND;TZID=Europe/Budapest:20250514T110000
DTSTAMP:20260420T094436
CREATED:20250304T095338Z
LAST-MODIFIED:20250506T093708Z
UID:10000251-1747216800-1747220400@napsugarbabszinhaz.hu
SUMMARY:A kakaska krajcárkái
DESCRIPTION:Előadásunk a román népmesék világába kalauzol bennünket\, oly módon\, hogy közben mindvégig otthon érezzük magunkat. Hogy miért? Mert a népmesék határokat átívelő\, mélységes igazság-világába csöppentünk\, ahol emberi természetünkre legvalódibb mivoltában ismerhetünk rá. Ráadásul úgy\, hogy közben nevetünk\, dalolunk\, rigmusokat faragunk\, és minduntalan ráismerünk magyar népmeséink alapmotívumaira is. Nem meglepő\, hiszen az egymás mellett élő nemzetek gyakran átveszik egymástól kultúráik elemeit. És a legalapvetőbb szembenállások mindenhol ugyanazok: a jó és a gonosz\, a hamis és igaz\, az értékes és értéktelen. Ion Creangă\, a román irodalom legnagyobb mesemondójaként\, a népi lélek ismerőjeként válogatta és hagyományozta a már gyermekként megismert történeteket\, akár nálunk\, magyaroknál Benedek Elek. \n\n\n\nA kakaska krajcárkáiért – igazságáért – folytatott kalandsorozata\, kitartása és győzelme minden bizonnyal a legpozitívabb emberi minőségek oldalára állítják az érző gyermeki lelket. \n\n\n\nElőadásunkban paravános játékként láthatjuk a darabot\, melyben hagyományos\, kesztyűs bábok játsszák a főszerepet – ahogyan annak idején szüleink is megszerették a bábszínházat. \n\n\n\nA mesét Farkas Wellmann Éva fordította\, dolgozta át és alkalmazta bábszínpadra \n\n\n\nZeneszerző: Lovas Gábor \n\n\n\nTervezte: Lenkefi Deák Réka \n\n\n\nAz ötletgazda és játékmester Soós Emőke \n\n\n\nAz előadást 4 éves kortól ajánljuk.
URL:https://napsugarbabszinhaz.hu/event/a-kakaska-krajcarkai/2025-05-14/
LOCATION:Napsugár Bábszínház\, Színház terem\, Gyulai út\, Békéscsaba\, 16655874-2-04\, 5600
CATEGORIES:Iskolásoknak,Óvodásoknak
ATTACH;FMTTYPE=image/jpeg:https://napsugarbabszinhaz.hu/wp-content/uploads/2025/05/untitled-32-of-32.jpg
ORGANIZER;CN="Napsug%C3%A1r B%C3%A1bsz%C3%ADnh%C3%A1z":MAILTO:napsugarbabszinhaz@gmail.com
END:VEVENT
BEGIN:VEVENT
DTSTART;TZID=Europe/Budapest:20250515T100000
DTEND;TZID=Europe/Budapest:20250515T110000
DTSTAMP:20260420T094436
CREATED:20250304T095338Z
LAST-MODIFIED:20250506T093708Z
UID:10000252-1747303200-1747306800@napsugarbabszinhaz.hu
SUMMARY:A kakaska krajcárkái
DESCRIPTION:Előadásunk a román népmesék világába kalauzol bennünket\, oly módon\, hogy közben mindvégig otthon érezzük magunkat. Hogy miért? Mert a népmesék határokat átívelő\, mélységes igazság-világába csöppentünk\, ahol emberi természetünkre legvalódibb mivoltában ismerhetünk rá. Ráadásul úgy\, hogy közben nevetünk\, dalolunk\, rigmusokat faragunk\, és minduntalan ráismerünk magyar népmeséink alapmotívumaira is. Nem meglepő\, hiszen az egymás mellett élő nemzetek gyakran átveszik egymástól kultúráik elemeit. És a legalapvetőbb szembenállások mindenhol ugyanazok: a jó és a gonosz\, a hamis és igaz\, az értékes és értéktelen. Ion Creangă\, a román irodalom legnagyobb mesemondójaként\, a népi lélek ismerőjeként válogatta és hagyományozta a már gyermekként megismert történeteket\, akár nálunk\, magyaroknál Benedek Elek. \n\n\n\nA kakaska krajcárkáiért – igazságáért – folytatott kalandsorozata\, kitartása és győzelme minden bizonnyal a legpozitívabb emberi minőségek oldalára állítják az érző gyermeki lelket. \n\n\n\nElőadásunkban paravános játékként láthatjuk a darabot\, melyben hagyományos\, kesztyűs bábok játsszák a főszerepet – ahogyan annak idején szüleink is megszerették a bábszínházat. \n\n\n\nA mesét Farkas Wellmann Éva fordította\, dolgozta át és alkalmazta bábszínpadra \n\n\n\nZeneszerző: Lovas Gábor \n\n\n\nTervezte: Lenkefi Deák Réka \n\n\n\nAz ötletgazda és játékmester Soós Emőke \n\n\n\nAz előadást 4 éves kortól ajánljuk.
URL:https://napsugarbabszinhaz.hu/event/a-kakaska-krajcarkai/2025-05-15/
LOCATION:Napsugár Bábszínház\, Színház terem\, Gyulai út\, Békéscsaba\, 16655874-2-04\, 5600
CATEGORIES:Iskolásoknak,Óvodásoknak
ATTACH;FMTTYPE=image/jpeg:https://napsugarbabszinhaz.hu/wp-content/uploads/2025/05/untitled-32-of-32.jpg
ORGANIZER;CN="Napsug%C3%A1r B%C3%A1bsz%C3%ADnh%C3%A1z":MAILTO:napsugarbabszinhaz@gmail.com
END:VEVENT
BEGIN:VEVENT
DTSTART;TZID=Europe/Budapest:20250516T100000
DTEND;TZID=Europe/Budapest:20250516T110000
DTSTAMP:20260420T094436
CREATED:20250304T095338Z
LAST-MODIFIED:20250506T093708Z
UID:10000253-1747389600-1747393200@napsugarbabszinhaz.hu
SUMMARY:A kakaska krajcárkái
DESCRIPTION:Előadásunk a román népmesék világába kalauzol bennünket\, oly módon\, hogy közben mindvégig otthon érezzük magunkat. Hogy miért? Mert a népmesék határokat átívelő\, mélységes igazság-világába csöppentünk\, ahol emberi természetünkre legvalódibb mivoltában ismerhetünk rá. Ráadásul úgy\, hogy közben nevetünk\, dalolunk\, rigmusokat faragunk\, és minduntalan ráismerünk magyar népmeséink alapmotívumaira is. Nem meglepő\, hiszen az egymás mellett élő nemzetek gyakran átveszik egymástól kultúráik elemeit. És a legalapvetőbb szembenállások mindenhol ugyanazok: a jó és a gonosz\, a hamis és igaz\, az értékes és értéktelen. Ion Creangă\, a román irodalom legnagyobb mesemondójaként\, a népi lélek ismerőjeként válogatta és hagyományozta a már gyermekként megismert történeteket\, akár nálunk\, magyaroknál Benedek Elek. \n\n\n\nA kakaska krajcárkáiért – igazságáért – folytatott kalandsorozata\, kitartása és győzelme minden bizonnyal a legpozitívabb emberi minőségek oldalára állítják az érző gyermeki lelket. \n\n\n\nElőadásunkban paravános játékként láthatjuk a darabot\, melyben hagyományos\, kesztyűs bábok játsszák a főszerepet – ahogyan annak idején szüleink is megszerették a bábszínházat. \n\n\n\nA mesét Farkas Wellmann Éva fordította\, dolgozta át és alkalmazta bábszínpadra \n\n\n\nZeneszerző: Lovas Gábor \n\n\n\nTervezte: Lenkefi Deák Réka \n\n\n\nAz ötletgazda és játékmester Soós Emőke \n\n\n\nAz előadást 4 éves kortól ajánljuk.
URL:https://napsugarbabszinhaz.hu/event/a-kakaska-krajcarkai/2025-05-16/
LOCATION:Napsugár Bábszínház\, Színház terem\, Gyulai út\, Békéscsaba\, 16655874-2-04\, 5600
CATEGORIES:Iskolásoknak,Óvodásoknak
ATTACH;FMTTYPE=image/jpeg:https://napsugarbabszinhaz.hu/wp-content/uploads/2025/05/untitled-32-of-32.jpg
ORGANIZER;CN="Napsug%C3%A1r B%C3%A1bsz%C3%ADnh%C3%A1z":MAILTO:napsugarbabszinhaz@gmail.com
END:VEVENT
BEGIN:VEVENT
DTSTART;TZID=Europe/Budapest:20250516T190000
DTEND;TZID=Europe/Budapest:20250516T200000
DTSTAMP:20260420T094436
CREATED:20250506T090708Z
LAST-MODIFIED:20250519T094255Z
UID:10000259-1747422000-1747425600@napsugarbabszinhaz.hu
SUMMARY:SEMMI
DESCRIPTION:Janne Teller regénye nem tartozik a könnyű témájú darabok közé. \n\n\n\nEgy kamasz\, Pierre Anthon felül egy szilvafára\, és miközben galád módon dobálja\, köpködi és riogatja osztálytársait az iskolába vezető úton\, elültet egy gondolatot a fejükben. Mind közül talán ez a legveszélyesebb és leginkább végzetes cselekedete a regényben\, még akkor is\, ha Janne Teller dán írónő valóban fordulatosra szabta eredetiben 2010-ben\, magyarul egy évvel később megjelent kamaszregényét\, amelynek címe egyszerűen csak annyi\, hogy Semmi. A Semmi nem pusztán egy történet\, vagyis történetként nagyon egyszerű. Valódi tartalommal az tölti meg\, ahogyan mi értelmezzük – ez teszi annyira veszélyessé\, mint Pierre Anthon szavait a történetben szereplő gyerekek értelmezése. \n\n\n\n \n\n\n\n \n\n\n\nJanne Teller regénye alapján írta és rendezte: Márkó Eszter \n\n\n\nFordította: Weyer Szilvia \n\n\n\nJátéktér: Szabó Anna \n\n\n\nZene: Lovas Gábor \n\n\n\nJátssza: Biró Gyula \n\n\n\n \n\n\n\n \n\n\n\nAz előadás a Nodiska Aps\, Copenhagen (www.nordiska.dk) engedélyével a Proscenium Szerzői Ügynökség Kft. közvetítésével jött létre.
URL:https://napsugarbabszinhaz.hu/event/semmi/2025-05-16/
LOCATION:Napsugár Bábszínház\, Stúdió\, Gyulai út\, Békéscsaba\, 16655874-2-04\, 5600
CATEGORIES:Felnőtt előadások
ATTACH;FMTTYPE=image/jpeg:https://napsugarbabszinhaz.hu/wp-content/uploads/2025/05/Semmi_fekvo.jpg
ORGANIZER;CN="Napsug%C3%A1r B%C3%A1bsz%C3%ADnh%C3%A1z":MAILTO:napsugarbabszinhaz@gmail.com
END:VEVENT
END:VCALENDAR