BEGIN:VCALENDAR
VERSION:2.0
PRODID:-//Napsugár Bábszínház - ECPv6.15.20//NONSGML v1.0//EN
CALSCALE:GREGORIAN
METHOD:PUBLISH
X-WR-CALNAME:Napsugár Bábszínház
X-ORIGINAL-URL:https://napsugarbabszinhaz.hu
X-WR-CALDESC:Események Napsugár Bábszínház
REFRESH-INTERVAL;VALUE=DURATION:PT1H
X-Robots-Tag:noindex
X-PUBLISHED-TTL:PT1H
BEGIN:VTIMEZONE
TZID:Europe/Budapest
BEGIN:DAYLIGHT
TZOFFSETFROM:+0100
TZOFFSETTO:+0200
TZNAME:CEST
DTSTART:20240331T010000
END:DAYLIGHT
BEGIN:STANDARD
TZOFFSETFROM:+0200
TZOFFSETTO:+0100
TZNAME:CET
DTSTART:20241027T010000
END:STANDARD
BEGIN:DAYLIGHT
TZOFFSETFROM:+0100
TZOFFSETTO:+0200
TZNAME:CEST
DTSTART:20250330T010000
END:DAYLIGHT
BEGIN:STANDARD
TZOFFSETFROM:+0200
TZOFFSETTO:+0100
TZNAME:CET
DTSTART:20251026T010000
END:STANDARD
BEGIN:DAYLIGHT
TZOFFSETFROM:+0100
TZOFFSETTO:+0200
TZNAME:CEST
DTSTART:20260329T010000
END:DAYLIGHT
BEGIN:STANDARD
TZOFFSETFROM:+0200
TZOFFSETTO:+0100
TZNAME:CET
DTSTART:20261025T010000
END:STANDARD
END:VTIMEZONE
BEGIN:VEVENT
DTSTART;TZID=Europe/Budapest:20250323T160000
DTEND;TZID=Europe/Budapest:20250323T170000
DTSTAMP:20260422T230151
CREATED:20250203T111152Z
LAST-MODIFIED:20250220T112247Z
UID:10000236-1742745600-1742749200@napsugarbabszinhaz.hu
SUMMARY:Pöttöm pöttyön pöttyös pötty
DESCRIPTION:BUDAPEST\, Lóvasút \n\n\n\n\n\nSzínes pöttyös párnákból hogyan lesz elefánt\, oroszlán\, zsiráf\, egér és még sok-sok állat? \n\n\n\nVarázslatos manókezek gyúrják\, csavarják\, forgatják\, míg újabb és újabb meglepetés-állat kerül ki színes kuckójukból. Különböző   hangszerek szólalnak meg egy-egy állat karakteréhez igazodva. Ritmusjáték\, taps és tánc\, szórakoztató átváltozások teszik színessé a figurák megjelenését. Izgalmas tárgyjáték a legkisebbeknek. \n\n\n\nAz előadást 0-4 éves korig ajánljuk! \n\n\n\n \n\n\n\nJátsszák: Biró Gyula\, Czumbil Emőke/Soós Emőke\, Czumbil Örs \n\n\n\nZene: Lovas Gábor \n\n\n\nTervező: L. Deák Réka \n\n\n\nRendezte: Csortán Zsóka
URL:https://napsugarbabszinhaz.hu/event/pottom-pottyon-pottyos-potty-2/
LOCATION:Lóvasút\, Zugligeti út 64.\, 1121 Budapest
ATTACH;FMTTYPE=image/jpeg:https://napsugarbabszinhaz.hu/wp-content/uploads/2024/11/Pottyos.jpg
END:VEVENT
END:VCALENDAR