BEGIN:VCALENDAR
VERSION:2.0
PRODID:-//Napsugár Bábszínház - ECPv6.15.20//NONSGML v1.0//EN
CALSCALE:GREGORIAN
METHOD:PUBLISH
X-WR-CALNAME:Napsugár Bábszínház
X-ORIGINAL-URL:https://napsugarbabszinhaz.hu
X-WR-CALDESC:Események Napsugár Bábszínház
REFRESH-INTERVAL;VALUE=DURATION:PT1H
X-Robots-Tag:noindex
X-PUBLISHED-TTL:PT1H
BEGIN:VTIMEZONE
TZID:Europe/Budapest
BEGIN:DAYLIGHT
TZOFFSETFROM:+0100
TZOFFSETTO:+0200
TZNAME:CEST
DTSTART:20230326T010000
END:DAYLIGHT
BEGIN:STANDARD
TZOFFSETFROM:+0200
TZOFFSETTO:+0100
TZNAME:CET
DTSTART:20231029T010000
END:STANDARD
BEGIN:DAYLIGHT
TZOFFSETFROM:+0100
TZOFFSETTO:+0200
TZNAME:CEST
DTSTART:20240331T010000
END:DAYLIGHT
BEGIN:STANDARD
TZOFFSETFROM:+0200
TZOFFSETTO:+0100
TZNAME:CET
DTSTART:20241027T010000
END:STANDARD
BEGIN:DAYLIGHT
TZOFFSETFROM:+0100
TZOFFSETTO:+0200
TZNAME:CEST
DTSTART:20250330T010000
END:DAYLIGHT
BEGIN:STANDARD
TZOFFSETFROM:+0200
TZOFFSETTO:+0100
TZNAME:CET
DTSTART:20251026T010000
END:STANDARD
END:VTIMEZONE
BEGIN:VEVENT
DTSTART;TZID=Europe/Budapest:20241213T190000
DTEND;TZID=Europe/Budapest:20241213T200000
DTSTAMP:20260425T055119
CREATED:20240912T091539Z
LAST-MODIFIED:20241118T085139Z
UID:10000183-1734116400-1734120000@napsugarbabszinhaz.hu
SUMMARY:Sziszüphosz
DESCRIPTION:„Inkább leszek terméketlen\,mint egy termék a neten\,Megteltem\, beteltem\,egyetlen életem TikTokra feltettem\,Felhők felettem\, de nem látom\,mert a szobámban ülök én és a magányom.” \n\n\n\n \n\n\n\n[Sziszüphosz]: a görög mitológiából ismert karakter\, az egyik legnagyobb lázadó\, aki képes volt még egy Istent is foglyul ejteni.[lázadó]: olyan személy\, aki a megszokott\, normálisnak vélt viselkedésre nem a szokott módon reagál. A fennálló renddel való szembefordulás oka: az elégedetlenség. A folyamat mások jelenlétének köszönhetően felgyorsulhat\, hiszen mindenki könnyebben elhatárolódik a többségi véleménytől\, ha ezzel nincs egyedül. \n\n\n\n[norma]: összehasonlítási alap vagy irányelv\, ami meghatározza valaki hozzáállását\, cselekedeteit\, viselkedését. \n\n\n\n \n\n\n\nSziszüphosz története számos művészt és filozófust megihletett korábban. Nem véletlen! Örökké tartó büntetése – a kőgörgetés\, melyet sosem hagyhat abba – az emberi lét szimbólumává vált. Ezt a küzdelmet a különböző korszakok más és más nézőpontból látják\, hiszen Sziszüphosz története állandó\, az emberi élet és gondolkodás azonban változatos. Előadásunk 21. századi környezetben értelmezi újra a klasszikus történetet.
URL:https://napsugarbabszinhaz.hu/event/sziszuphosz/
LOCATION:Napsugár Bábszínház\, Színház terem\, Gyulai út\, Békéscsaba\, 16655874-2-04\, 5600
ATTACH;FMTTYPE=image/jpeg:https://napsugarbabszinhaz.hu/wp-content/uploads/2024/09/Sziszuphosz.jpg
END:VEVENT
END:VCALENDAR