BEGIN:VCALENDAR
VERSION:2.0
PRODID:-//Napsugár Bábszínház - ECPv6.15.20//NONSGML v1.0//EN
CALSCALE:GREGORIAN
METHOD:PUBLISH
X-ORIGINAL-URL:https://napsugarbabszinhaz.hu
X-WR-CALDESC:Események Napsugár Bábszínház
REFRESH-INTERVAL;VALUE=DURATION:PT1H
X-Robots-Tag:noindex
X-PUBLISHED-TTL:PT1H
BEGIN:VTIMEZONE
TZID:Europe/Budapest
BEGIN:DAYLIGHT
TZOFFSETFROM:+0100
TZOFFSETTO:+0200
TZNAME:CEST
DTSTART:20230326T010000
END:DAYLIGHT
BEGIN:STANDARD
TZOFFSETFROM:+0200
TZOFFSETTO:+0100
TZNAME:CET
DTSTART:20231029T010000
END:STANDARD
BEGIN:DAYLIGHT
TZOFFSETFROM:+0100
TZOFFSETTO:+0200
TZNAME:CEST
DTSTART:20240331T010000
END:DAYLIGHT
BEGIN:STANDARD
TZOFFSETFROM:+0200
TZOFFSETTO:+0100
TZNAME:CET
DTSTART:20241027T010000
END:STANDARD
BEGIN:DAYLIGHT
TZOFFSETFROM:+0100
TZOFFSETTO:+0200
TZNAME:CEST
DTSTART:20250330T010000
END:DAYLIGHT
BEGIN:STANDARD
TZOFFSETFROM:+0200
TZOFFSETTO:+0100
TZNAME:CET
DTSTART:20251026T010000
END:STANDARD
END:VTIMEZONE
BEGIN:VEVENT
DTSTART;TZID=Europe/Budapest:20241207T160000
DTEND;TZID=Europe/Budapest:20241207T170000
DTSTAMP:20260425T055925
CREATED:20240910T130720Z
LAST-MODIFIED:20241118T084532Z
UID:10000182-1733587200-1733590800@napsugarbabszinhaz.hu
SUMMARY:Angyalszemmel
DESCRIPTION:MIKULÁSSZOMBAT \n\n\n\n\n\n\n\nOdakint lassan sűrűsödik a szürkület\, ami valahogy bemászik a bőrünk alá. Nem csoda hát\, hogy áhítattal nézzük a gyermekeket\, akiknek tekintetében még felsejlik a karácsonyfákkal repkedő angyalhad. Jó lenne hát\, ha valamiféle varázslatos balzsammal bedörzsölhetnénk a szemünket\, hogy újra megláthassuk gyermekkorunk csodavilágát.A Napsugár Bábszínház „Angyalszemmel” című előadása erre ad lehetőséget kicsiknek és nagyoknak egyaránt. \n\n\n\n \n\n\n\nWass Albert meséjét színpadra álmodta és játssza: Czumbil EmőkeAz álmot valósággá rajzolta: Lenkefi ZoltánÜnnepre hangolta: Lovas Gábor \n\n\n\n \n\n\n\n5 éves kortól ajánljuk!
URL:https://napsugarbabszinhaz.hu/event/angyalszemmel/
LOCATION:Napsugár Bábszínház\, Stúdió terem\, Gyulai út 2/1.\, Békéscsaba\, 5600
ATTACH;FMTTYPE=image/jpeg:https://napsugarbabszinhaz.hu/wp-content/uploads/2024/04/Angyalszemmel.jpg
END:VEVENT
END:VCALENDAR