BEGIN:VCALENDAR
VERSION:2.0
PRODID:-//Napsugár Bábszínház - ECPv6.15.20//NONSGML v1.0//EN
CALSCALE:GREGORIAN
METHOD:PUBLISH
X-WR-CALNAME:Napsugár Bábszínház
X-ORIGINAL-URL:https://napsugarbabszinhaz.hu
X-WR-CALDESC:Események Napsugár Bábszínház
REFRESH-INTERVAL;VALUE=DURATION:PT1H
X-Robots-Tag:noindex
X-PUBLISHED-TTL:PT1H
BEGIN:VTIMEZONE
TZID:Europe/Paris
BEGIN:DAYLIGHT
TZOFFSETFROM:+0100
TZOFFSETTO:+0200
TZNAME:CEST
DTSTART:20230326T010000
END:DAYLIGHT
BEGIN:STANDARD
TZOFFSETFROM:+0200
TZOFFSETTO:+0100
TZNAME:CET
DTSTART:20231029T010000
END:STANDARD
BEGIN:DAYLIGHT
TZOFFSETFROM:+0100
TZOFFSETTO:+0200
TZNAME:CEST
DTSTART:20240331T010000
END:DAYLIGHT
BEGIN:STANDARD
TZOFFSETFROM:+0200
TZOFFSETTO:+0100
TZNAME:CET
DTSTART:20241027T010000
END:STANDARD
BEGIN:DAYLIGHT
TZOFFSETFROM:+0100
TZOFFSETTO:+0200
TZNAME:CEST
DTSTART:20250330T010000
END:DAYLIGHT
BEGIN:STANDARD
TZOFFSETFROM:+0200
TZOFFSETTO:+0100
TZNAME:CET
DTSTART:20251026T010000
END:STANDARD
END:VTIMEZONE
BEGIN:VEVENT
DTSTART;TZID=Europe/Paris:20240415T100000
DTEND;TZID=Europe/Paris:20240415T110000
DTSTAMP:20260425T221547
CREATED:20240313T072959Z
LAST-MODIFIED:20240416T133643Z
UID:10000087-1713175200-1713178800@napsugarbabszinhaz.hu
SUMMARY:Rászedett ördögök
DESCRIPTION:A gonosz mindenünnen leselkedik ránk: ha a falra festjük\, ha nem\, előbb utóbb mindannyiunk előtt megjelenik az ördög. \n\n\n\nA Békéscsabai Napsugár Bábszínház előadásának hősei nem megijednek a szarvas-patás ártó szándékú figurától\, hanem szembeszállnak vele –mégpedig a furfang\, a találékonyság és nem utolsósorban a humor eszközeivel.A Rászedett ördögök című előadásban három magyar népmesét mesélünk el\, a klasszikus magyar vásári bábjátékhagyomány eszközeit újragondolva\, három különféle bábtechnikával: kesztyűs- és marionettbábokkal\, valamint képmutogatós játék segítségével. Előadásunkban pedig végső soron bemutatjuk\, hogy a mese erejével és a józan ésszel még a leggonoszabb gonosz is legyőzhető. \n\n\n\n \n\n\n\nMagyar népmesék alapján írta: Markó RóbertLátványtervező: Boráros SzilárdZeneszerző: Lovas GáborKoreográfus: Markó-Valentyik AnnaRendező: Markó Róbert \n\n\n\nJátsszák: Csortán Zsóka\, Soós Emőke\, Lovas Gábor \n\n\n\n \n\n\n\n4 éves kortól ajánljuk!
URL:https://napsugarbabszinhaz.hu/event/raszedett-ordogok/2024-04-15/
CATEGORIES:Iskolásoknak,Óvodásoknak
ATTACH;FMTTYPE=image/jpeg:https://napsugarbabszinhaz.hu/wp-content/uploads/2024/04/IMG_9268-scaled.jpg
END:VEVENT
BEGIN:VEVENT
DTSTART;TZID=Europe/Paris:20240416T100000
DTEND;TZID=Europe/Paris:20240416T110000
DTSTAMP:20260425T221547
CREATED:20240313T072959Z
LAST-MODIFIED:20240416T133643Z
UID:10000088-1713261600-1713265200@napsugarbabszinhaz.hu
SUMMARY:Rászedett ördögök
DESCRIPTION:A gonosz mindenünnen leselkedik ránk: ha a falra festjük\, ha nem\, előbb utóbb mindannyiunk előtt megjelenik az ördög. \n\n\n\nA Békéscsabai Napsugár Bábszínház előadásának hősei nem megijednek a szarvas-patás ártó szándékú figurától\, hanem szembeszállnak vele –mégpedig a furfang\, a találékonyság és nem utolsósorban a humor eszközeivel.A Rászedett ördögök című előadásban három magyar népmesét mesélünk el\, a klasszikus magyar vásári bábjátékhagyomány eszközeit újragondolva\, három különféle bábtechnikával: kesztyűs- és marionettbábokkal\, valamint képmutogatós játék segítségével. Előadásunkban pedig végső soron bemutatjuk\, hogy a mese erejével és a józan ésszel még a leggonoszabb gonosz is legyőzhető. \n\n\n\n \n\n\n\nMagyar népmesék alapján írta: Markó RóbertLátványtervező: Boráros SzilárdZeneszerző: Lovas GáborKoreográfus: Markó-Valentyik AnnaRendező: Markó Róbert \n\n\n\nJátsszák: Csortán Zsóka\, Soós Emőke\, Lovas Gábor \n\n\n\n \n\n\n\n4 éves kortól ajánljuk!
URL:https://napsugarbabszinhaz.hu/event/raszedett-ordogok/2024-04-16/
CATEGORIES:Iskolásoknak,Óvodásoknak
ATTACH;FMTTYPE=image/jpeg:https://napsugarbabszinhaz.hu/wp-content/uploads/2024/04/IMG_9268-scaled.jpg
END:VEVENT
BEGIN:VEVENT
DTSTART;TZID=Europe/Paris:20240417T100000
DTEND;TZID=Europe/Paris:20240417T110000
DTSTAMP:20260425T221547
CREATED:20240313T072959Z
LAST-MODIFIED:20240416T133643Z
UID:10000089-1713348000-1713351600@napsugarbabszinhaz.hu
SUMMARY:Rászedett ördögök
DESCRIPTION:A gonosz mindenünnen leselkedik ránk: ha a falra festjük\, ha nem\, előbb utóbb mindannyiunk előtt megjelenik az ördög. \n\n\n\nA Békéscsabai Napsugár Bábszínház előadásának hősei nem megijednek a szarvas-patás ártó szándékú figurától\, hanem szembeszállnak vele –mégpedig a furfang\, a találékonyság és nem utolsósorban a humor eszközeivel.A Rászedett ördögök című előadásban három magyar népmesét mesélünk el\, a klasszikus magyar vásári bábjátékhagyomány eszközeit újragondolva\, három különféle bábtechnikával: kesztyűs- és marionettbábokkal\, valamint képmutogatós játék segítségével. Előadásunkban pedig végső soron bemutatjuk\, hogy a mese erejével és a józan ésszel még a leggonoszabb gonosz is legyőzhető. \n\n\n\n \n\n\n\nMagyar népmesék alapján írta: Markó RóbertLátványtervező: Boráros SzilárdZeneszerző: Lovas GáborKoreográfus: Markó-Valentyik AnnaRendező: Markó Róbert \n\n\n\nJátsszák: Csortán Zsóka\, Soós Emőke\, Lovas Gábor \n\n\n\n \n\n\n\n4 éves kortól ajánljuk!
URL:https://napsugarbabszinhaz.hu/event/raszedett-ordogok/2024-04-17/
CATEGORIES:Iskolásoknak,Óvodásoknak
ATTACH;FMTTYPE=image/jpeg:https://napsugarbabszinhaz.hu/wp-content/uploads/2024/04/IMG_9268-scaled.jpg
END:VEVENT
BEGIN:VEVENT
DTSTART;TZID=Europe/Paris:20240418T100000
DTEND;TZID=Europe/Paris:20240418T110000
DTSTAMP:20260425T221547
CREATED:20240313T072959Z
LAST-MODIFIED:20240416T133643Z
UID:10000090-1713434400-1713438000@napsugarbabszinhaz.hu
SUMMARY:Rászedett ördögök
DESCRIPTION:A gonosz mindenünnen leselkedik ránk: ha a falra festjük\, ha nem\, előbb utóbb mindannyiunk előtt megjelenik az ördög. \n\n\n\nA Békéscsabai Napsugár Bábszínház előadásának hősei nem megijednek a szarvas-patás ártó szándékú figurától\, hanem szembeszállnak vele –mégpedig a furfang\, a találékonyság és nem utolsósorban a humor eszközeivel.A Rászedett ördögök című előadásban három magyar népmesét mesélünk el\, a klasszikus magyar vásári bábjátékhagyomány eszközeit újragondolva\, három különféle bábtechnikával: kesztyűs- és marionettbábokkal\, valamint képmutogatós játék segítségével. Előadásunkban pedig végső soron bemutatjuk\, hogy a mese erejével és a józan ésszel még a leggonoszabb gonosz is legyőzhető. \n\n\n\n \n\n\n\nMagyar népmesék alapján írta: Markó RóbertLátványtervező: Boráros SzilárdZeneszerző: Lovas GáborKoreográfus: Markó-Valentyik AnnaRendező: Markó Róbert \n\n\n\nJátsszák: Csortán Zsóka\, Soós Emőke\, Lovas Gábor \n\n\n\n \n\n\n\n4 éves kortól ajánljuk!
URL:https://napsugarbabszinhaz.hu/event/raszedett-ordogok/2024-04-18/
CATEGORIES:Iskolásoknak,Óvodásoknak
ATTACH;FMTTYPE=image/jpeg:https://napsugarbabszinhaz.hu/wp-content/uploads/2024/04/IMG_9268-scaled.jpg
END:VEVENT
BEGIN:VEVENT
DTSTART;TZID=Europe/Paris:20240419T100000
DTEND;TZID=Europe/Paris:20240419T110000
DTSTAMP:20260425T221547
CREATED:20240313T072959Z
LAST-MODIFIED:20240416T133643Z
UID:10000091-1713520800-1713524400@napsugarbabszinhaz.hu
SUMMARY:Rászedett ördögök
DESCRIPTION:A gonosz mindenünnen leselkedik ránk: ha a falra festjük\, ha nem\, előbb utóbb mindannyiunk előtt megjelenik az ördög. \n\n\n\nA Békéscsabai Napsugár Bábszínház előadásának hősei nem megijednek a szarvas-patás ártó szándékú figurától\, hanem szembeszállnak vele –mégpedig a furfang\, a találékonyság és nem utolsósorban a humor eszközeivel.A Rászedett ördögök című előadásban három magyar népmesét mesélünk el\, a klasszikus magyar vásári bábjátékhagyomány eszközeit újragondolva\, három különféle bábtechnikával: kesztyűs- és marionettbábokkal\, valamint képmutogatós játék segítségével. Előadásunkban pedig végső soron bemutatjuk\, hogy a mese erejével és a józan ésszel még a leggonoszabb gonosz is legyőzhető. \n\n\n\n \n\n\n\nMagyar népmesék alapján írta: Markó RóbertLátványtervező: Boráros SzilárdZeneszerző: Lovas GáborKoreográfus: Markó-Valentyik AnnaRendező: Markó Róbert \n\n\n\nJátsszák: Csortán Zsóka\, Soós Emőke\, Lovas Gábor \n\n\n\n \n\n\n\n4 éves kortól ajánljuk!
URL:https://napsugarbabszinhaz.hu/event/raszedett-ordogok/2024-04-19/
CATEGORIES:Iskolásoknak,Óvodásoknak
ATTACH;FMTTYPE=image/jpeg:https://napsugarbabszinhaz.hu/wp-content/uploads/2024/04/IMG_9268-scaled.jpg
END:VEVENT
BEGIN:VEVENT
DTSTART;TZID=Europe/Paris:20240420T100000
DTEND;TZID=Europe/Paris:20240420T110000
DTSTAMP:20260425T221547
CREATED:20240321T135745Z
LAST-MODIFIED:20240321T135917Z
UID:10000110-1713607200-1713610800@napsugarbabszinhaz.hu
SUMMARY:Bíbele\, bíbele\, paccs!
DESCRIPTION:Három barát találkozik. Közös játékba kezdenek\, összevesznek\, kibékülnek\, ahogy az már a játék hevében lenni szokott. Létrából lesz hangszer\, dobozokból ház\, párnákból ember. Csodahárfa\, varázsdoboz\, szépen szóló ütős hangszer kíséri a játékot. Varázslat kápráztatja el a kis nézőket. \n\n\n\n \n\n\n\nDíszlet- jelmez- és bábtervező: Deák Réka \n\n\n\nZene: Lovas Gábor \n\n\n\nRendező: Csortán Erzsébet \n\n\n\nJátsszák: Czumbil Örs\, Czumbil Emőke / Gyarmati Éva\, Csortán Erzsébet \n\n\n\n \n\n\n\nAz előadást 0-4 éves korig ajánljuk! \n\n\n\n\nhttps://www.jegy.hu/program/bibele-bibele-paccs-156913
URL:https://napsugarbabszinhaz.hu/event/bibele-bibele-paccs-2/
LOCATION:Napsugár Bábszínház Kis-terem\, Gyulai út 2/1.\, Békéscsaba\, 5600
CATEGORIES:Babaszínház
ATTACH;FMTTYPE=image/jpeg:https://napsugarbabszinhaz.hu/wp-content/uploads/2024/03/MG_4415-scaled.jpg
ORGANIZER;CN="Napsug%C3%A1r B%C3%A1bsz%C3%ADnh%C3%A1z":MAILTO:napsugarbabszinhaz@gmail.com
END:VEVENT
BEGIN:VEVENT
DTSTART;TZID=Europe/Paris:20240420T160000
DTEND;TZID=Europe/Paris:20240420T170000
DTSTAMP:20260425T221547
CREATED:20240313T122213Z
LAST-MODIFIED:20240321T140000Z
UID:10000111-1713628800-1713632400@napsugarbabszinhaz.hu
SUMMARY:Bíbele\, bíbele\, paccs!
DESCRIPTION:Három barát találkozik. Közös játékba kezdenek\, összevesznek\, kibékülnek\, ahogy az már a játék hevében lenni szokott. Létrából lesz hangszer\, dobozokból ház\, párnákból ember. Csodahárfa\, varázsdoboz\, szépen szóló ütős hangszer kíséri a játékot. Varázslat kápráztatja el a kis nézőket. \n\n\n\n \n\n\n\nDíszlet- jelmez- és bábtervező: Deák Réka \n\n\n\nZene: Lovas Gábor \n\n\n\nRendező: Csortán Erzsébet \n\n\n\nJátsszák: Czumbil Örs\, Czumbil Emőke / Gyarmati Éva\, Csortán Erzsébet \n\n\n\n \n\n\n\nAz előadást 0-4 éves korig ajánljuk! \n\n\n\n\nhttps://www.jegy.hu/program/bibele-bibele-paccs-156913
URL:https://napsugarbabszinhaz.hu/event/bibele-bibele-paccs/
LOCATION:Napsugár Bábszínház Kis-terem\, Gyulai út 2/1.\, Békéscsaba\, 5600
CATEGORIES:Babaszínház
ATTACH;FMTTYPE=image/jpeg:https://napsugarbabszinhaz.hu/wp-content/uploads/2024/03/MG_4415-scaled.jpg
ORGANIZER;CN="Napsug%C3%A1r B%C3%A1bsz%C3%ADnh%C3%A1z":MAILTO:napsugarbabszinhaz@gmail.com
END:VEVENT
END:VCALENDAR