BEGIN:VCALENDAR
VERSION:2.0
PRODID:-//Napsugár Bábszínház - ECPv6.15.20//NONSGML v1.0//EN
CALSCALE:GREGORIAN
METHOD:PUBLISH
X-WR-CALNAME:Napsugár Bábszínház
X-ORIGINAL-URL:https://napsugarbabszinhaz.hu
X-WR-CALDESC:Események Napsugár Bábszínház
REFRESH-INTERVAL;VALUE=DURATION:PT1H
X-Robots-Tag:noindex
X-PUBLISHED-TTL:PT1H
BEGIN:VTIMEZONE
TZID:UTC
BEGIN:STANDARD
TZOFFSETFROM:+0000
TZOFFSETTO:+0000
TZNAME:UTC
DTSTART:20230101T000000
END:STANDARD
END:VTIMEZONE
BEGIN:VEVENT
DTSTART;TZID=UTC:20240319T100000
DTEND;TZID=UTC:20240319T110000
DTSTAMP:20260425T182311
CREATED:20240226T120917Z
LAST-MODIFIED:20240226T121942Z
UID:10000014-1710842400-1710846000@napsugarbabszinhaz.hu
SUMMARY:Paprika Jancsi
DESCRIPTION:zártkörű előadás \n\n\n\n\n\n\n\nÚjkígyós \n\n\n\n\n\n\n\nA kesztyűs bábos\, paravános előadás az örökké jókedvű és mindig segítőkész Paprika Jancsiról szól\, aki elindul megkeresni elveszett barátját\, Léggömböcskét. Útközben találkozik a cicával\, az egerekkel\, a malaccal\, akiktől megkérdi\, látták-e az elveszett gömbölyű és gyönyörű\, sárga léggömböt. Igen ám\, csak mindenkinek mást jelent ez a különleges jelző. A boldogságot ugyanis mindenki máshol és másban leli meg. Útja során felbukkan a róka meg a farkas\, akik igyekeznek meggátolni őt a keresésben. Végül megmenekül (fakanalával ellátja az ellenség baját) és megtalálja elveszett barátját\, a Léggömböt. A történet végére hazajutnak a folyton síró Bömbőkéhez\, akivel boldogan és vidáman játszanak az idők végezetéig. Juhhhé!\n \nÍró: Kovács PetraBábosok: Biró Gyula\, Czumbil Örs és Gyarmati ÉvaBáb- és díszlet tervező: Néder JankaZene: Lovas GáborRendező: Soós Emőke\n4 éves kortól ajánljuk!\n\n 
URL:https://napsugarbabszinhaz.hu/event/paprika-jancsi-3/
CATEGORIES:Óvodásoknak
ATTACH;FMTTYPE=image/jpeg:https://napsugarbabszinhaz.hu/wp-content/uploads/2024/02/IMG_9859-scaled.jpg
END:VEVENT
BEGIN:VEVENT
DTSTART;TZID=UTC:20240321T190000
DTEND;TZID=UTC:20240321T200000
DTSTAMP:20260425T182311
CREATED:20240227T123456Z
LAST-MODIFIED:20240313T125423Z
UID:10000016-1711047600-1711051200@napsugarbabszinhaz.hu
SUMMARY:Paprika Jancsi
DESCRIPTION:PARAVÁNON INNEN ÉS TÚL \n\n\n\n \n\n\n\n\n\n\nParavánon innen és túl – bepillantás a kulisszák mögé…. \n  \nA Bábszínházi világnap alkalmából most felnőtteket invitálunk Paprika Jancsi előadásunkra.Felnőtteknek a Paprika Jancsi? Igen!Paravánon innen és túl! Megnézheted hogy zajlik a háttérben egy kesztyűsbábos előadás. Párhuzamosan két síkon futnak az események. Miközben bábszínészeink a megszokott módon játszanak\, a néző kivetítőn figyelheti\, mi történik a háttérben\, a színfalak mögött. \nAz előadást követően pedig a rendezővel és a színészekkel beszélgetünk. \n  \nÍró: Kovács PetraBábosok: Biró Gyula\, Czumbil Örs és Gyarmati ÉvaBáb- és díszlet tervező: Néder JankaZene: Lovas GáborRendező: Soós Emőke
URL:https://napsugarbabszinhaz.hu/event/paprika-jancsi-4/
LOCATION:Napsugár Bábszínház Nagy-terem\, Gyulai út 2/1.\, Békéscsaba\, 5600
CATEGORIES:Felnőtt előadások
ATTACH;FMTTYPE=image/jpeg:https://napsugarbabszinhaz.hu/wp-content/uploads/2024/02/IMG_9859-scaled.jpg
ORGANIZER;CN="Napsug%C3%A1r B%C3%A1bsz%C3%ADnh%C3%A1z":MAILTO:napsugarbabszinhaz@gmail.com
END:VEVENT
BEGIN:VEVENT
DTSTART;TZID=UTC:20240323T100000
DTEND;TZID=UTC:20240323T110000
DTSTAMP:20260425T182311
CREATED:20240313T104217Z
LAST-MODIFIED:20240313T104556Z
UID:10000109-1711188000-1711191600@napsugarbabszinhaz.hu
SUMMARY:A papucsszaggató királykisasszonyok
DESCRIPTION:Bögrés mesék sorozatunkban egy-egy népmese köré társítunk táncot\, kézműves foglalkozást\, interaktív részvételt a mesélésben. Nem hagyományos bábelőadás\, hanem egy vidám\, szórakoztató\, ugyanakkor tartalmas együttlét a közönségünkkel\, a végén teával vagy kakaóval. A sorozatban Benedek Elek: A papucsszaggató királykisasszonyok az első mese\, amit két teaházat üzemeltető táncos játszik el tárgyakkal\, tánccal\, gyerekekkel. A helyzetkomikumra épülő játék közben kis tánctanításra is sor kerül. Jó alkalom ez arra\, hogy a családok\, szülők\, nagyszülők is részt vegyenek a játékban és gyermekükkel\, unokájukkal közös élményben legyen részük. Persze csak akkor\, ha kedvük van hozzá\, ám ha csak külső szemlélőként vesznek részt\, akkor is élvezhetik az előadást.\n \nMesélik\, játszák\, táncolják: Czumbil Emőke\, Majthényi DánielZene: Lovas GáborLátvány: L. Deák RékaRendező: Csortán Zsóka\n \n4 éves kortól ajánljuk!
URL:https://napsugarbabszinhaz.hu/event/a-papucsszaggato-kiralykisasszonyok/
LOCATION:Napsugár Bábszínház Beliczey-terem\, Gyulai út 2/1.\, Békéscsaba
CATEGORIES:Bögrés mesék,Iskolásoknak,Óvodásoknak
END:VEVENT
BEGIN:VEVENT
DTSTART;TZID=UTC:20240323T160000
DTEND;TZID=UTC:20240323T170000
DTSTAMP:20260425T182311
CREATED:20240207T152839Z
LAST-MODIFIED:20240313T104511Z
UID:10000004-1711209600-1711213200@napsugarbabszinhaz.hu
SUMMARY:A papucsszaggató királykisasszonyok
DESCRIPTION:Bögrés mesék sorozatunkban egy-egy népmese köré társítunk táncot\, kézműves foglalkozást\, interaktív részvételt a mesélésben. Nem hagyományos bábelőadás\, hanem egy vidám\, szórakoztató\, ugyanakkor tartalmas együttlét a közönségünkkel\, a végén teával vagy kakaóval. A sorozatban Benedek Elek: A papucsszaggató királykisasszonyok az első mese\, amit két teaházat üzemeltető táncos játszik el tárgyakkal\, tánccal\, gyerekekkel. A helyzetkomikumra épülő játék közben kis tánctanításra is sor kerül. Jó alkalom ez arra\, hogy a családok\, szülők\, nagyszülők is részt vegyenek a játékban és gyermekükkel\, unokájukkal közös élményben legyen részük. Persze csak akkor\, ha kedvük van hozzá\, ám ha csak külső szemlélőként vesznek részt\, akkor is élvezhetik az előadást.\n \nMesélik\, játszák\, táncolják: Czumbil Emőke\, Majthényi DánielZene: Lovas GáborLátvány: L. Deák RékaRendező: Csortán Zsóka\n \n4 éves kortól ajánljuk!
URL:https://napsugarbabszinhaz.hu/event/bogres-mesek-a-papucsszaggato-kiralykisasszonyok/
LOCATION:Napsugár Bábszínház Beliczey-terem\, Gyulai út 2/1.\, Békéscsaba
CATEGORIES:Bögrés mesék,Iskolásoknak,Óvodásoknak
END:VEVENT
END:VCALENDAR