BEGIN:VCALENDAR
VERSION:2.0
PRODID:-//Napsugár Bábszínház - ECPv6.15.20//NONSGML v1.0//EN
CALSCALE:GREGORIAN
METHOD:PUBLISH
X-ORIGINAL-URL:https://napsugarbabszinhaz.hu
X-WR-CALDESC:Események Napsugár Bábszínház
REFRESH-INTERVAL;VALUE=DURATION:PT1H
X-Robots-Tag:noindex
X-PUBLISHED-TTL:PT1H
BEGIN:VTIMEZONE
TZID:Europe/Budapest
BEGIN:DAYLIGHT
TZOFFSETFROM:+0100
TZOFFSETTO:+0200
TZNAME:CEST
DTSTART:20230326T010000
END:DAYLIGHT
BEGIN:STANDARD
TZOFFSETFROM:+0200
TZOFFSETTO:+0100
TZNAME:CET
DTSTART:20231029T010000
END:STANDARD
BEGIN:DAYLIGHT
TZOFFSETFROM:+0100
TZOFFSETTO:+0200
TZNAME:CEST
DTSTART:20240331T010000
END:DAYLIGHT
BEGIN:STANDARD
TZOFFSETFROM:+0200
TZOFFSETTO:+0100
TZNAME:CET
DTSTART:20241027T010000
END:STANDARD
BEGIN:DAYLIGHT
TZOFFSETFROM:+0100
TZOFFSETTO:+0200
TZNAME:CEST
DTSTART:20250330T010000
END:DAYLIGHT
BEGIN:STANDARD
TZOFFSETFROM:+0200
TZOFFSETTO:+0100
TZNAME:CET
DTSTART:20251026T010000
END:STANDARD
END:VTIMEZONE
BEGIN:VEVENT
DTSTART;TZID=Europe/Budapest:20240824T163000
DTEND;TZID=Europe/Budapest:20240824T180000
DTSTAMP:20260420T063059
CREATED:20240823T070349Z
LAST-MODIFIED:20240823T070351Z
UID:10000162-1724517000-1724522400@napsugarbabszinhaz.hu
SUMMARY:Bábozda - játszóház
DESCRIPTION:
URL:https://napsugarbabszinhaz.hu/event/babozda-jatszohaz/
LOCATION:Napsugár Bábszínház kertje\, Gyulai út 2/1.\, Békéscsaba\, 5600
ATTACH;FMTTYPE=image/jpeg:https://napsugarbabszinhaz.hu/wp-content/uploads/2024/06/BA-8450-scaled.jpg
END:VEVENT
BEGIN:VEVENT
DTSTART;TZID=Europe/Budapest:20240824T160000
DTEND;TZID=Europe/Budapest:20240824T170000
DTSTAMP:20260420T063059
CREATED:20240823T070028Z
LAST-MODIFIED:20240823T070030Z
UID:10000161-1724515200-1724518800@napsugarbabszinhaz.hu
SUMMARY:Kityi kotyi kityi kotty\, avagy utazás a csacsifogaton
DESCRIPTION:Fut robog a kicsi kocsi…\, A kismalac és a farkasok\, vagy A három nyúl történetei generációkat kötnek össze. A Móricz Zsigmond\, Zelk Zoltán\, Kányádi Sándor\, Weöres Sándor verseiből\, verses meséiből összeállított előadás igazi\, felszabadult játék kicsiknek és kicsit nagyobbaknak. A két vándor szekerét húzva érkezik meg a játéktérre\, ahol pillanatok alatt varázsolnak bábszínpadot szekerükből\, díszletet akár a kalapjukból is. \n\n\n\n \n\n\n\nAz előadást 4 éves kortól ajánljuk!
URL:https://napsugarbabszinhaz.hu/event/kityi-kotyi-kityi-kotty-avagy-utazas-a-csacsifogaton-3/
LOCATION:Napsugár Bábszínház kertje\, Gyulai út 2/1.\, Békéscsaba\, 5600
ATTACH;FMTTYPE=image/jpeg:https://napsugarbabszinhaz.hu/wp-content/uploads/2024/05/Csacsi.jpg
END:VEVENT
BEGIN:VEVENT
DTSTART;TZID=Europe/Budapest:20240816T163000
DTEND;TZID=Europe/Budapest:20240816T173000
DTSTAMP:20260420T063059
CREATED:20240808T063524Z
LAST-MODIFIED:20240808T063526Z
UID:10000156-1723825800-1723829400@napsugarbabszinhaz.hu
SUMMARY:Kityi kotyi kityi kotty\, avagy utazás a csacsifogaton
DESCRIPTION:Fut robog a kicsi kocsi…\, A kismalac és a farkasok\, vagy A három nyúl történetei generációkat kötnek össze. A Móricz Zsigmond\, Zelk Zoltán\, Kányádi Sándor\, Weöres Sándor verseiből\, verses meséiből összeállított előadás igazi\, felszabadult játék kicsiknek és kicsit nagyobbaknak. A két vándor szekerét húzva érkezik meg a játéktérre\, ahol pillanatok alatt varázsolnak bábszínpadot szekerükből\, díszletet akár a kalapjukból is. \n\n\n\n \n\n\n\nAz előadást 4 éves kortól ajánljuk!
URL:https://napsugarbabszinhaz.hu/event/kityi-kotyi-kityi-kotty-avagy-utazas-a-csacsifogaton-2/
LOCATION:Gyulai Várfürdő\, Maróthy tér 2.\, Gyula\, 5700
ATTACH;FMTTYPE=image/jpeg:https://napsugarbabszinhaz.hu/wp-content/uploads/2024/05/Csacsi.jpg
END:VEVENT
BEGIN:VEVENT
DTSTART;TZID=Europe/Budapest:20240810T180000
DTEND;TZID=Europe/Budapest:20240810T220000
DTSTAMP:20260420T063059
CREATED:20240614T094210Z
LAST-MODIFIED:20240618T094546Z
UID:10000151-1723312800-1723327200@napsugarbabszinhaz.hu
SUMMARY:Munkácsy MásKéPp interaktív kiállítás
DESCRIPTION:
URL:https://napsugarbabszinhaz.hu/event/munkacsy-maskepp-interaktiv-kiallitas/2024-08-10/
LOCATION:16655874-2-04
ATTACH;FMTTYPE=image/jpeg:https://napsugarbabszinhaz.hu/wp-content/uploads/2024/06/plakat_02-scaled.jpg
END:VEVENT
BEGIN:VEVENT
DTSTART;TZID=Europe/Budapest:20240809T180000
DTEND;TZID=Europe/Budapest:20240809T220000
DTSTAMP:20260420T063059
CREATED:20240614T094210Z
LAST-MODIFIED:20240618T094546Z
UID:10000150-1723226400-1723240800@napsugarbabszinhaz.hu
SUMMARY:Munkácsy MásKéPp interaktív kiállítás
DESCRIPTION:
URL:https://napsugarbabszinhaz.hu/event/munkacsy-maskepp-interaktiv-kiallitas/2024-08-09/
LOCATION:16655874-2-04
ATTACH;FMTTYPE=image/jpeg:https://napsugarbabszinhaz.hu/wp-content/uploads/2024/06/plakat_02-scaled.jpg
END:VEVENT
BEGIN:VEVENT
DTSTART;TZID=Europe/Budapest:20240803T190000
DTEND;TZID=Europe/Budapest:20240803T200000
DTSTAMP:20260420T063059
CREATED:20240614T105617Z
LAST-MODIFIED:20240614T105726Z
UID:10000160-1722711600-1722715200@napsugarbabszinhaz.hu
SUMMARY:Danny mesél: A fán lakó gyermek
DESCRIPTION:Danny Bain az Amerikai Egyesült Államokban született és nőtt föl. Zenélni hazájában\, Afrikában és Dél-Amerikában tanult\, majd 2010-ben Magyarországra érkezett. Jellegzetes mesemondó stílusa afrikai zenei hagyományokra épül\, tradicionális és saját népmeséket ötvöz fülbemászó dallamokkal és hipnotikus ritmusokkal afrikai balafon kíséretében. \n\n\n\nA „Danny mesél” program átfogó módon nyújt a gyerekeknek lehetőséget arra\, hogy fejleszthessék nyelvi készségeiket\, zenét és táncot tanulhassanak\, és új kultúrákat és hangszereket fedezhessenek fel. Előadásai magyar és angol nyelven hallgathatók. Előadásaiból 2015-ben megjelent az „Ez nem az apu hangja!” című CD mellékletes mesekönyv Máray Mariann csodálatos illusztrációival\, mely bekerült az év 50 legjobb Gyermek- és Ifjúsági Könyve közé\, és a Szép Magyar Könyv díjat is elnyerte. \n\n\n\n \n\n\n\n„Mert a legnagyobb egzotikum Danny hangszere és előadásmódja. Egy falapokból\, lopótökökből és antilopbőr madzagokból álló\, afrikai xilofonon játszik\, ezt püföli virtuózan két gumiabroncsból készült ütővel\, miközben meglepően választékos magyarsággal és amerikai akcentussal kántál és énekel.” (Varró Dani\, költő)
URL:https://napsugarbabszinhaz.hu/event/danny-mesel-a-fan-lako-gyermek/
LOCATION:Békéscsabai Napsugár Bábszínház\, kert\, Gyulai út 2/1.\, Békéscsaba\, 5600
ATTACH;FMTTYPE=image/jpeg:https://napsugarbabszinhaz.hu/wp-content/uploads/2024/06/a-fan-lako-gyermekek-2.jpg
END:VEVENT
BEGIN:VEVENT
DTSTART;TZID=Europe/Budapest:20240803T160000
DTEND;TZID=Europe/Budapest:20240803T220000
DTSTAMP:20260420T063059
CREATED:20240614T094210Z
LAST-MODIFIED:20240618T094546Z
UID:10000149-1722700800-1722722400@napsugarbabszinhaz.hu
SUMMARY:Munkácsy MásKéPp interaktív kiállítás
DESCRIPTION:
URL:https://napsugarbabszinhaz.hu/event/munkacsy-maskepp-interaktiv-kiallitas/2024-08-03/
LOCATION:16655874-2-04
ATTACH;FMTTYPE=image/jpeg:https://napsugarbabszinhaz.hu/wp-content/uploads/2024/06/plakat_02-scaled.jpg
END:VEVENT
BEGIN:VEVENT
DTSTART;TZID=Europe/Budapest:20240803T160000
DTEND;TZID=Europe/Budapest:20240803T180000
DTSTAMP:20260420T063059
CREATED:20240614T104105Z
LAST-MODIFIED:20240614T105225Z
UID:10000159-1722700800-1722708000@napsugarbabszinhaz.hu
SUMMARY:Játszóház
DESCRIPTION:
URL:https://napsugarbabszinhaz.hu/event/jatszohaz/2024-08-03/
LOCATION:Békéscsabai Napsugár Bábszínház\, kert\, Gyulai út 2/1.\, Békéscsaba\, Select an option…\, 5600
ATTACH;FMTTYPE=image/jpeg:https://napsugarbabszinhaz.hu/wp-content/uploads/2024/06/BA-8450-scaled.jpg
END:VEVENT
BEGIN:VEVENT
DTSTART;TZID=Europe/Budapest:20240802T180000
DTEND;TZID=Europe/Budapest:20240802T220000
DTSTAMP:20260420T063059
CREATED:20240614T094210Z
LAST-MODIFIED:20240618T094546Z
UID:10000148-1722621600-1722636000@napsugarbabszinhaz.hu
SUMMARY:Munkácsy MásKéPp interaktív kiállítás
DESCRIPTION:
URL:https://napsugarbabszinhaz.hu/event/munkacsy-maskepp-interaktiv-kiallitas/2024-08-02/
LOCATION:16655874-2-04
ATTACH;FMTTYPE=image/jpeg:https://napsugarbabszinhaz.hu/wp-content/uploads/2024/06/plakat_02-scaled.jpg
END:VEVENT
BEGIN:VEVENT
DTSTART;TZID=Europe/Budapest:20240802T170000
DTEND;TZID=Europe/Budapest:20240802T180000
DTSTAMP:20260420T063059
CREATED:20240614T094616Z
LAST-MODIFIED:20240614T095121Z
UID:10000153-1722618000-1722621600@napsugarbabszinhaz.hu
SUMMARY:Szép Cerceruska
DESCRIPTION:Népmese bábokkal és mesélővel a gyermekek bevonásával. Ebben az előadásban\, ha szerencséd van\, kis időre te lehetsz szép Cerceruska\, vagy a kistestvére Zsuzsika\, lehetsz királyfi vagy őzike. Együtt szállunk szembe a gonosszal\, törjük meg az átkot. Játék és mese összhangjából alakul az előadás és még csodamagot is megkóstolhatod és az se baj\, ha már kinőttél a gyermekkorból. Örömjáték kicsiknek és nagyoknak egyaránt. \n\n\n\n \n\n\n\n5 éves kortól ajánljuk!
URL:https://napsugarbabszinhaz.hu/event/szep-cerceruska/2024-08-02/
LOCATION:Gyulai Várfürdő\, Maróthy tér 2.\, Gyula\, 5700
ATTACH;FMTTYPE=image/jpeg:https://napsugarbabszinhaz.hu/wp-content/uploads/2024/05/Szep_Cerceruska.jpg
END:VEVENT
BEGIN:VEVENT
DTSTART;TZID=Europe/Budapest:20240727T180000
DTEND;TZID=Europe/Budapest:20240727T220000
DTSTAMP:20260420T063059
CREATED:20240614T094210Z
LAST-MODIFIED:20240618T094546Z
UID:10000147-1722103200-1722117600@napsugarbabszinhaz.hu
SUMMARY:Munkácsy MásKéPp interaktív kiállítás
DESCRIPTION:
URL:https://napsugarbabszinhaz.hu/event/munkacsy-maskepp-interaktiv-kiallitas/2024-07-27/
LOCATION:16655874-2-04
ATTACH;FMTTYPE=image/jpeg:https://napsugarbabszinhaz.hu/wp-content/uploads/2024/06/plakat_02-scaled.jpg
END:VEVENT
BEGIN:VEVENT
DTSTART;TZID=Europe/Budapest:20240726T180000
DTEND;TZID=Europe/Budapest:20240726T220000
DTSTAMP:20260420T063059
CREATED:20240614T094210Z
LAST-MODIFIED:20240618T094546Z
UID:10000146-1722016800-1722031200@napsugarbabszinhaz.hu
SUMMARY:Munkácsy MásKéPp interaktív kiállítás
DESCRIPTION:
URL:https://napsugarbabszinhaz.hu/event/munkacsy-maskepp-interaktiv-kiallitas/2024-07-26/
LOCATION:16655874-2-04
ATTACH;FMTTYPE=image/jpeg:https://napsugarbabszinhaz.hu/wp-content/uploads/2024/06/plakat_02-scaled.jpg
END:VEVENT
BEGIN:VEVENT
DTSTART;TZID=Europe/Budapest:20240720T190000
DTEND;TZID=Europe/Budapest:20240720T200000
DTSTAMP:20260420T063059
CREATED:20240614T103500Z
LAST-MODIFIED:20240614T103619Z
UID:10000157-1721502000-1721505600@napsugarbabszinhaz.hu
SUMMARY:Malac és liba
DESCRIPTION:KL Színház vendégelőadása: \n\n\n\n \n\n\n\nTartsatok velük és legyetek ti is Malac és Liba barátai! Ismerjétek meg szeleburdi hőseinket\, és nevessetek kalandjaikon! Tóth Krisztina gyerekeknek és szüleiknek egyaránt kedves történetei bővelkednek a humorban\, melyekkel igazi közös\, családi élmény lesz ez az előadás. \n\n\n\n \n\n\n\nAz előadást 4 éves kortól ajánljuk!
URL:https://napsugarbabszinhaz.hu/event/malac-es-liba/
LOCATION:Békéscsabai Napsugár Bábszínház\, kert\, Gyulai út 2/1.\, Békéscsaba\, 5600
ATTACH;FMTTYPE=image/jpeg:https://napsugarbabszinhaz.hu/wp-content/uploads/2024/06/edv_4897_-1.jpg
END:VEVENT
BEGIN:VEVENT
DTSTART;TZID=Europe/Budapest:20240720T160000
DTEND;TZID=Europe/Budapest:20240720T220000
DTSTAMP:20260420T063059
CREATED:20240614T094210Z
LAST-MODIFIED:20240618T094546Z
UID:10000145-1721491200-1721512800@napsugarbabszinhaz.hu
SUMMARY:Munkácsy MásKéPp interaktív kiállítás
DESCRIPTION:
URL:https://napsugarbabszinhaz.hu/event/munkacsy-maskepp-interaktiv-kiallitas/2024-07-20/
LOCATION:16655874-2-04
ATTACH;FMTTYPE=image/jpeg:https://napsugarbabszinhaz.hu/wp-content/uploads/2024/06/plakat_02-scaled.jpg
END:VEVENT
BEGIN:VEVENT
DTSTART;TZID=Europe/Budapest:20240720T160000
DTEND;TZID=Europe/Budapest:20240720T180000
DTSTAMP:20260420T063059
CREATED:20240614T104105Z
LAST-MODIFIED:20240614T105225Z
UID:10000158-1721491200-1721498400@napsugarbabszinhaz.hu
SUMMARY:Játszóház
DESCRIPTION:
URL:https://napsugarbabszinhaz.hu/event/jatszohaz/2024-07-20/
LOCATION:Békéscsabai Napsugár Bábszínház\, kert\, Gyulai út 2/1.\, Békéscsaba\, Select an option…\, 5600
ATTACH;FMTTYPE=image/jpeg:https://napsugarbabszinhaz.hu/wp-content/uploads/2024/06/BA-8450-scaled.jpg
END:VEVENT
BEGIN:VEVENT
DTSTART;TZID=Europe/Budapest:20240719T180000
DTEND;TZID=Europe/Budapest:20240719T220000
DTSTAMP:20260420T063059
CREATED:20240614T094210Z
LAST-MODIFIED:20240618T094546Z
UID:10000144-1721412000-1721426400@napsugarbabszinhaz.hu
SUMMARY:Munkácsy MásKéPp interaktív kiállítás
DESCRIPTION:
URL:https://napsugarbabszinhaz.hu/event/munkacsy-maskepp-interaktiv-kiallitas/2024-07-19/
LOCATION:16655874-2-04
ATTACH;FMTTYPE=image/jpeg:https://napsugarbabszinhaz.hu/wp-content/uploads/2024/06/plakat_02-scaled.jpg
END:VEVENT
BEGIN:VEVENT
DTSTART;TZID=Europe/Budapest:20240719T170000
DTEND;TZID=Europe/Budapest:20240719T180000
DTSTAMP:20260420T063059
CREATED:20240614T095519Z
LAST-MODIFIED:20240614T095615Z
UID:10000155-1721408400-1721412000@napsugarbabszinhaz.hu
SUMMARY:Kityi kotyi kityi kotty\, avagy utazás a csacsifogaton
DESCRIPTION:Fut robog a kicsi kocsi…\, A kismalac és a farkasok\, vagy A három nyúl történetei generációkat kötnek össze. A Móricz Zsigmond\, Zelk Zoltán\, Kányádi Sándor\, Weöres Sándor verseiből\, verses meséiből összeállított előadás igazi\, felszabadult játék kicsiknek és kicsit nagyobbaknak. A két vándor szekerét húzva érkezik meg a játéktérre\, ahol pillanatok alatt varázsolnak bábszínpadot szekerükből\, díszletet akár a kalapjukból is. \n\n\n\n \n\n\n\nAz előadást 4 éves kortól ajánljuk!
URL:https://napsugarbabszinhaz.hu/event/kityi-kotyi-kityi-kotty-avagy-utazas-a-csacsifogaton/
LOCATION:Gyulai Várfürdő\, Maróthy tér 2.\, Gyula\, 5700
ATTACH;FMTTYPE=image/jpeg:https://napsugarbabszinhaz.hu/wp-content/uploads/2024/05/Csacsi.jpg
END:VEVENT
BEGIN:VEVENT
DTSTART;TZID=Europe/Budapest:20240713T190000
DTEND;TZID=Europe/Budapest:20240713T200000
DTSTAMP:20260420T063059
CREATED:20240614T084332Z
LAST-MODIFIED:20240614T084503Z
UID:10000139-1720897200-1720900800@napsugarbabszinhaz.hu
SUMMARY:CSERI HANNA koncert
DESCRIPTION:cserihanna a hazai alternatív pop színtér egyik legkülönlegesebb előadója. 2022 októberében jelentette meg első\, ZSIRÁFHÁT című dalát\, melynek zseniális videója a Klipszemlén premierezett. A Spotify viral listába is bekúszó “BÁCSI” című szerzeményét is már nagy figyelem övezte\, majd 2023 májusában a KIKÖTŐ névre keresztelt első albuma is megjelent\, amit azóta már több mint félmilliószor streameltek. A teltházas Turbinában adott lemezbemutatót egy mozgalmas fesztiválszezon követett. A színházi világból már korábban is ismert\, rendezőként és zeneszerzőként már díjazott Hanna\, zenéjében is kísérletező\, a fiatal felnőttkor jellegzetes témáit\, problémáit mutatja be páratlan humorral és öniróniával. \n\n\n\n \n\n\n\nAjánlott életkor: 16+
URL:https://napsugarbabszinhaz.hu/event/cseri-hanna-koncert/
LOCATION:16655874-2-04
CATEGORIES:Felnőtt előadások,Középiskolásoknak
ATTACH;FMTTYPE=image/jpeg:https://napsugarbabszinhaz.hu/wp-content/uploads/2024/06/CseriHanna_13-scaled.jpg
END:VEVENT
BEGIN:VEVENT
DTSTART;TZID=Europe/Budapest:20240713T180000
DTEND;TZID=Europe/Budapest:20240713T220000
DTSTAMP:20260420T063059
CREATED:20240614T094210Z
LAST-MODIFIED:20240618T094546Z
UID:10000143-1720893600-1720908000@napsugarbabszinhaz.hu
SUMMARY:Munkácsy MásKéPp interaktív kiállítás
DESCRIPTION:
URL:https://napsugarbabszinhaz.hu/event/munkacsy-maskepp-interaktiv-kiallitas/2024-07-13/
LOCATION:16655874-2-04
ATTACH;FMTTYPE=image/jpeg:https://napsugarbabszinhaz.hu/wp-content/uploads/2024/06/plakat_02-scaled.jpg
END:VEVENT
BEGIN:VEVENT
DTSTART;TZID=Europe/Budapest:20240712T180000
DTEND;TZID=Europe/Budapest:20240712T220000
DTSTAMP:20260420T063059
CREATED:20240614T094210Z
LAST-MODIFIED:20240618T094546Z
UID:10000142-1720807200-1720821600@napsugarbabszinhaz.hu
SUMMARY:Munkácsy MásKéPp interaktív kiállítás
DESCRIPTION:
URL:https://napsugarbabszinhaz.hu/event/munkacsy-maskepp-interaktiv-kiallitas/2024-07-12/
LOCATION:16655874-2-04
ATTACH;FMTTYPE=image/jpeg:https://napsugarbabszinhaz.hu/wp-content/uploads/2024/06/plakat_02-scaled.jpg
END:VEVENT
BEGIN:VEVENT
DTSTART;TZID=Europe/Budapest:20240706T180000
DTEND;TZID=Europe/Budapest:20240706T220000
DTSTAMP:20260420T063059
CREATED:20240614T094210Z
LAST-MODIFIED:20240618T094546Z
UID:10000141-1720288800-1720303200@napsugarbabszinhaz.hu
SUMMARY:Munkácsy MásKéPp interaktív kiállítás
DESCRIPTION:
URL:https://napsugarbabszinhaz.hu/event/munkacsy-maskepp-interaktiv-kiallitas/2024-07-06/
LOCATION:16655874-2-04
ATTACH;FMTTYPE=image/jpeg:https://napsugarbabszinhaz.hu/wp-content/uploads/2024/06/plakat_02-scaled.jpg
END:VEVENT
BEGIN:VEVENT
DTSTART;TZID=Europe/Budapest:20240705T180000
DTEND;TZID=Europe/Budapest:20240705T220000
DTSTAMP:20260420T063059
CREATED:20240614T094210Z
LAST-MODIFIED:20240618T094546Z
UID:10000140-1720202400-1720216800@napsugarbabszinhaz.hu
SUMMARY:Munkácsy MásKéPp interaktív kiállítás
DESCRIPTION:
URL:https://napsugarbabszinhaz.hu/event/munkacsy-maskepp-interaktiv-kiallitas/2024-07-05/
LOCATION:16655874-2-04
ATTACH;FMTTYPE=image/jpeg:https://napsugarbabszinhaz.hu/wp-content/uploads/2024/06/plakat_02-scaled.jpg
END:VEVENT
BEGIN:VEVENT
DTSTART;TZID=Europe/Budapest:20240705T170000
DTEND;TZID=Europe/Budapest:20240705T180000
DTSTAMP:20260420T063059
CREATED:20240614T094616Z
LAST-MODIFIED:20240614T095121Z
UID:10000152-1720198800-1720202400@napsugarbabszinhaz.hu
SUMMARY:Szép Cerceruska
DESCRIPTION:Népmese bábokkal és mesélővel a gyermekek bevonásával. Ebben az előadásban\, ha szerencséd van\, kis időre te lehetsz szép Cerceruska\, vagy a kistestvére Zsuzsika\, lehetsz királyfi vagy őzike. Együtt szállunk szembe a gonosszal\, törjük meg az átkot. Játék és mese összhangjából alakul az előadás és még csodamagot is megkóstolhatod és az se baj\, ha már kinőttél a gyermekkorból. Örömjáték kicsiknek és nagyoknak egyaránt. \n\n\n\n \n\n\n\n5 éves kortól ajánljuk!
URL:https://napsugarbabszinhaz.hu/event/szep-cerceruska/2024-07-05/
LOCATION:Gyulai Várfürdő\, Maróthy tér 2.\, Gyula\, 5700
ATTACH;FMTTYPE=image/jpeg:https://napsugarbabszinhaz.hu/wp-content/uploads/2024/05/Szep_Cerceruska.jpg
END:VEVENT
BEGIN:VEVENT
DTSTART;TZID=Europe/Budapest:20240624T093000
DTEND;TZID=Europe/Budapest:20240624T103000
DTSTAMP:20260420T063059
CREATED:20240429T084127Z
LAST-MODIFIED:20240429T084444Z
UID:10000137-1719221400-1719225000@napsugarbabszinhaz.hu
SUMMARY:Rászedett ördögök
DESCRIPTION:Magyarországi bábszínházak 16. találkozója\, Kecskemét \n\n\n\n\n\n\n\n\n\n\n\nA gonosz mindenünnen leselkedik ránk: ha a falra festjük\, ha nem\, előbb utóbb mindannyiunk előtt megjelenik az ördög. \n\n\n\nA Békéscsabai Napsugár Bábszínház előadásának hősei nem megijednek a szarvas-patás ártó szándékú figurától\, hanem szembeszállnak vele –mégpedig a furfang\, a találékonyság és nem utolsósorban a humor eszközeivel.A Rászedett ördögök című előadásban három magyar népmesét mesélünk el\, a klasszikus magyar vásári bábjátékhagyomány eszközeit újragondolva\, három különféle bábtechnikával: kesztyűs- és marionettbábokkal\, valamint képmutogatós játék segítségével. Előadásunkban pedig végső soron bemutatjuk\, hogy a mese erejével és a józan ésszel még a leggonoszabb gonosz is legyőzhető. \n\n\n\n \n\n\n\nMagyar népmesék alapján írta: Markó RóbertLátványtervező: Boráros SzilárdZeneszerző: Lovas GáborKoreográfus: Markó-Valentyik AnnaRendező: Markó Róbert \n\n\n\nJátsszák: Csortán Zsóka\, Soós Emőke\, Lovas Gábor \n\n\n\n \n\n\n\n4 éves kortól ajánljuk!
URL:https://napsugarbabszinhaz.hu/event/raszedett-ordogok-4/
LOCATION:16655874-2-04
CATEGORIES:Iskolásoknak,Óvodásoknak
ATTACH;FMTTYPE=image/jpeg:https://napsugarbabszinhaz.hu/wp-content/uploads/2024/04/IMG_9268-scaled.jpg
END:VEVENT
BEGIN:VEVENT
DTSTART;TZID=Europe/Budapest:20240622T160000
DTEND;TZID=Europe/Budapest:20240622T220000
DTSTAMP:20260420T063059
CREATED:20240614T082759Z
LAST-MODIFIED:20240614T093522Z
UID:10000138-1719072000-1719093600@napsugarbabszinhaz.hu
SUMMARY:Múzeumok éjszakája
DESCRIPTION:16:00 Szoboravatás \n\n\n\n17:00 Munkácsy MásKéPp interaktív kiállítás megnyitója \n\n\n\n18:30 Keringő medúzával – koncert
URL:https://napsugarbabszinhaz.hu/event/muzeumok-ejszakaja/
LOCATION:16655874-2-04
ATTACH;FMTTYPE=image/jpeg:https://napsugarbabszinhaz.hu/wp-content/uploads/2024/06/2024-06-22_muzeumok_ejszakaja-scaled.jpg
END:VEVENT
BEGIN:VEVENT
DTSTART;TZID=Europe/Budapest:20240615T160000
DTEND;TZID=Europe/Budapest:20240615T170000
DTSTAMP:20260420T063059
CREATED:20240429T083509Z
LAST-MODIFIED:20240429T084823Z
UID:10000136-1718467200-1718470800@napsugarbabszinhaz.hu
SUMMARY:Rászedett ördögök
DESCRIPTION:A gonosz mindenünnen leselkedik ránk: ha a falra festjük\, ha nem\, előbb utóbb mindannyiunk előtt megjelenik az ördög. \n\n\n\nA Békéscsabai Napsugár Bábszínház előadásának hősei nem megijednek a szarvas-patás ártó szándékú figurától\, hanem szembeszállnak vele –mégpedig a furfang\, a találékonyság és nem utolsósorban a humor eszközeivel.A Rászedett ördögök című előadásban három magyar népmesét mesélünk el\, a klasszikus magyar vásári bábjátékhagyomány eszközeit újragondolva\, három különféle bábtechnikával: kesztyűs- és marionettbábokkal\, valamint képmutogatós játék segítségével. Előadásunkban pedig végső soron bemutatjuk\, hogy a mese erejével és a józan ésszel még a leggonoszabb gonosz is legyőzhető. \n\n\n\n \n\n\n\nMagyar népmesék alapján írta: Markó RóbertLátványtervező: Boráros SzilárdZeneszerző: Lovas GáborKoreográfus: Markó-Valentyik AnnaRendező: Markó Róbert \n\n\n\nJátsszák: Csortán Zsóka\, Soós Emőke\, Lovas Gábor \n\n\n\n \n\n\n\n4 éves kortól ajánljuk!
URL:https://napsugarbabszinhaz.hu/event/raszedett-ordogok-3/
LOCATION:Napsugár Bábszínház\, Színház terem\, Gyulai út\, Békéscsaba\, 16655874-2-04\, 5600
CATEGORIES:Iskolásoknak,Napsugaras délutánok,Óvodásoknak
ATTACH;FMTTYPE=image/jpeg:https://napsugarbabszinhaz.hu/wp-content/uploads/2024/04/IMG_9268-scaled.jpg
ORGANIZER;CN="Napsug%C3%A1r B%C3%A1bsz%C3%ADnh%C3%A1z":MAILTO:napsugarbabszinhaz@gmail.com
END:VEVENT
BEGIN:VEVENT
DTSTART;TZID=Europe/Budapest:20240608T160000
DTEND;TZID=Europe/Budapest:20240608T170000
DTSTAMP:20260420T063059
CREATED:20240429T082914Z
LAST-MODIFIED:20240429T082943Z
UID:10000135-1717862400-1717866000@napsugarbabszinhaz.hu
SUMMARY:Jujj\, jön a Rongymacska
DESCRIPTION:Van egy rendszerető macskánk\, aki szeret gombolyaggal játszani. Persze a játék után szépen rendet rak\, különválogatja színük és méretük szerint a fonalgombócokat. Amíg pihen\, egy csintalan egér érkezik…. lesz is kalamajka meg kergetőzés. \n\n\n\n \n\n\n\nJátsszák: Gyarmati Éva\, Biró Gyula \n\n\n\nZenél: Lovas Gábor \n\n\n\nTervező: L. Deák Réka \n\n\n\nRendező: Csortán Zsóka \n\n\n\n \n\n\n\nAz előadást 0-4 éves korig ajánljuk!
URL:https://napsugarbabszinhaz.hu/event/jujj-jon-a-rongymacska/2024-06-08/2/
LOCATION:16655874-2-04
CATEGORIES:Babaszínház
ATTACH;FMTTYPE=image/jpeg:https://napsugarbabszinhaz.hu/wp-content/uploads/2024/04/IMG_8031-scaled.jpg
ORGANIZER;CN="Napsug%C3%A1r B%C3%A1bsz%C3%ADnh%C3%A1z":MAILTO:napsugarbabszinhaz@gmail.com
END:VEVENT
BEGIN:VEVENT
DTSTART;TZID=Europe/Budapest:20240608T100000
DTEND;TZID=Europe/Budapest:20240608T110000
DTSTAMP:20260420T063059
CREATED:20240429T082914Z
LAST-MODIFIED:20240429T082943Z
UID:10000134-1717840800-1717844400@napsugarbabszinhaz.hu
SUMMARY:Jujj\, jön a Rongymacska
DESCRIPTION:Van egy rendszerető macskánk\, aki szeret gombolyaggal játszani. Persze a játék után szépen rendet rak\, különválogatja színük és méretük szerint a fonalgombócokat. Amíg pihen\, egy csintalan egér érkezik…. lesz is kalamajka meg kergetőzés. \n\n\n\n \n\n\n\nJátsszák: Gyarmati Éva\, Biró Gyula \n\n\n\nZenél: Lovas Gábor \n\n\n\nTervező: L. Deák Réka \n\n\n\nRendező: Csortán Zsóka \n\n\n\n \n\n\n\nAz előadást 0-4 éves korig ajánljuk!
URL:https://napsugarbabszinhaz.hu/event/jujj-jon-a-rongymacska/2024-06-08/1/
LOCATION:16655874-2-04
CATEGORIES:Babaszínház
ATTACH;FMTTYPE=image/jpeg:https://napsugarbabszinhaz.hu/wp-content/uploads/2024/04/IMG_8031-scaled.jpg
ORGANIZER;CN="Napsug%C3%A1r B%C3%A1bsz%C3%ADnh%C3%A1z":MAILTO:napsugarbabszinhaz@gmail.com
END:VEVENT
BEGIN:VEVENT
DTSTART;TZID=Europe/Budapest:20240526T160000
DTEND;TZID=Europe/Budapest:20240526T170000
DTSTAMP:20260420T063059
CREATED:20240429T082350Z
LAST-MODIFIED:20240429T082351Z
UID:10000133-1716739200-1716742800@napsugarbabszinhaz.hu
SUMMARY:Paprika Jancsi
DESCRIPTION:A kesztyűs bábos\, paravános előadás az örökké jókedvű és mindig segítőkész Paprika Jancsiról szól\, aki elindul megkeresni elveszett barátját\, Léggömböcskét. Útközben találkozik a cicával\, az egerekkel\, a malaccal\, akiktől megkérdi\, látták-e az elveszett gömbölyű és gyönyörű\, sárga léggömböt. Igen ám\, csak mindenkinek mást jelent ez a különleges jelző. A boldogságot ugyanis mindenki máshol és másban leli meg. Útja során felbukkan a róka meg a farkas\, akik igyekeznek meggátolni őt a keresésben. Végül megmenekül (fakanalával ellátja az ellenség baját) és megtalálja elveszett barátját\, a Léggömböt. A történet végére hazajutnak a folyton síró Bömbőkéhez\, akivel boldogan és vidáman játszanak az idők végezetéig. Juhhhé! \n\n\n\n \n\n\n\nÍró: Kovács PetraBábosok: Biró Gyula\, Czumbil Örs és Gyarmati ÉvaBáb- és díszlet tervező: Néder JankaZene: Lovas GáborRendező: Soós Emőke \n\n\n\n \n\n\n\n4 éves kortól ajánljuk!
URL:https://napsugarbabszinhaz.hu/event/paprika-jancsi-5/
LOCATION:16655874-2-04
CATEGORIES:Iskolásoknak,Óvodásoknak
ORGANIZER;CN="Napsug%C3%A1r B%C3%A1bsz%C3%ADnh%C3%A1z":MAILTO:napsugarbabszinhaz@gmail.com
END:VEVENT
BEGIN:VEVENT
DTSTART;TZID=Europe/Budapest:20240525T160000
DTEND;TZID=Europe/Budapest:20240525T170000
DTSTAMP:20260420T063059
CREATED:20240425T133024Z
LAST-MODIFIED:20240429T081035Z
UID:10000119-1716652800-1716656400@napsugarbabszinhaz.hu
SUMMARY:Hej\, tulipán!
DESCRIPTION:Hogyan alakul ki a VILÁG? Járjuk körbe együtt! A népi motívumokra épülő játék során megteremtődik az ég\, a föld\, a Nap\, a Hold\, a csillagok\, a vizek… virágok\, állatok. Gyere el\, és teremtsünk együtt egy színes VILÁGOT! \n\n\n\n \n\n\n\nJátssza: Czumbil Emőke \n\n\n\nZene: Lovas GáborTervező: L. Deák RékaRendező: Csortán Erzsébet \n\n\n\n \n\n\n\nAz előadás 4 éves korig ajánlott!
URL:https://napsugarbabszinhaz.hu/event/hej-tulipan/
LOCATION:16655874-2-04
CATEGORIES:Babaszínház
ATTACH;FMTTYPE=image/jpeg:https://napsugarbabszinhaz.hu/wp-content/uploads/2024/03/MG_6007-scaled.jpg
ORGANIZER;CN="Napsug%C3%A1r B%C3%A1bsz%C3%ADnh%C3%A1z":MAILTO:napsugarbabszinhaz@gmail.com
END:VEVENT
END:VCALENDAR