BEGIN:VCALENDAR
VERSION:2.0
PRODID:-//Napsugár Bábszínház - ECPv6.15.20//NONSGML v1.0//EN
CALSCALE:GREGORIAN
METHOD:PUBLISH
X-WR-CALNAME:Napsugár Bábszínház
X-ORIGINAL-URL:https://napsugarbabszinhaz.hu
X-WR-CALDESC:Események Napsugár Bábszínház
REFRESH-INTERVAL;VALUE=DURATION:PT1H
X-Robots-Tag:noindex
X-PUBLISHED-TTL:PT1H
BEGIN:VTIMEZONE
TZID:Europe/Budapest
BEGIN:DAYLIGHT
TZOFFSETFROM:+0100
TZOFFSETTO:+0200
TZNAME:CEST
DTSTART:20240331T010000
END:DAYLIGHT
BEGIN:STANDARD
TZOFFSETFROM:+0200
TZOFFSETTO:+0100
TZNAME:CET
DTSTART:20241027T010000
END:STANDARD
BEGIN:DAYLIGHT
TZOFFSETFROM:+0100
TZOFFSETTO:+0200
TZNAME:CEST
DTSTART:20250330T010000
END:DAYLIGHT
BEGIN:STANDARD
TZOFFSETFROM:+0200
TZOFFSETTO:+0100
TZNAME:CET
DTSTART:20251026T010000
END:STANDARD
BEGIN:DAYLIGHT
TZOFFSETFROM:+0100
TZOFFSETTO:+0200
TZNAME:CEST
DTSTART:20260329T010000
END:DAYLIGHT
BEGIN:STANDARD
TZOFFSETFROM:+0200
TZOFFSETTO:+0100
TZNAME:CET
DTSTART:20261025T010000
END:STANDARD
END:VTIMEZONE
BEGIN:VEVENT
DTSTART;TZID=Europe/Budapest:20250303T100000
DTEND;TZID=Europe/Budapest:20250303T110000
DTSTAMP:20260422T192009
CREATED:20250203T110547Z
LAST-MODIFIED:20250203T110758Z
UID:10000231-1740996000-1740999600@napsugarbabszinhaz.hu
SUMMARY:Láthatatlan jóbarát
DESCRIPTION:A jó barát szövetséges\, félszavakból is ért téged\, együtt nevet veled\, nála otthon érzed magad\, mindig számíthatsz rá\, ha baj van. De mi van akkor\, ha ez a barát csak a képzeletünkben létezik? Mondjuk\, egy unikornis… Akit csak te látsz… Aki csak rád figyel…Aki ott terem\, ha szükséged van rá!Történetünk egy ilyen barátságról mesél\, egy embergyerek és egy Unikornis között! Előadásunk kevés szóval\, a zene\, az animáció eszközeivel viszi el a nézőket a fantázia birodalmába! \n\n\n\nTervező: Rófusz KingaZene: Kiss Erzsi \n\n\n\nA zeneszerző alkotótársai: Pápai István\, Dudás ZsomborZenei felvétel\, keverés\, mastering: Pápai István \n\n\n\nRendező: Bartal Kiss Rita \n\n\n\nJátszák: Soós Emőke\, Gyarmati Éva\, Czumbil Emőke\, Berndt Richárd \n\n\n\n4 éves kortól ajánljuk!
URL:https://napsugarbabszinhaz.hu/event/lathatatlan-jobarat-2/2025-03-03/
LOCATION:Napsugár Bábszínház\, Színház terem\, Gyulai út\, Békéscsaba\, Select an option…\, 5600
ATTACH;FMTTYPE=image/jpeg:https://napsugarbabszinhaz.hu/wp-content/uploads/2024/11/Lathatatlan_jobarat.jpg
ORGANIZER;CN="Napsug%C3%A1r B%C3%A1bsz%C3%ADnh%C3%A1z":MAILTO:napsugarbabszinhaz@gmail.com
END:VEVENT
BEGIN:VEVENT
DTSTART;TZID=Europe/Budapest:20250304T100000
DTEND;TZID=Europe/Budapest:20250304T110000
DTSTAMP:20260422T192009
CREATED:20250203T110547Z
LAST-MODIFIED:20250203T110758Z
UID:10000232-1741082400-1741086000@napsugarbabszinhaz.hu
SUMMARY:Láthatatlan jóbarát
DESCRIPTION:A jó barát szövetséges\, félszavakból is ért téged\, együtt nevet veled\, nála otthon érzed magad\, mindig számíthatsz rá\, ha baj van. De mi van akkor\, ha ez a barát csak a képzeletünkben létezik? Mondjuk\, egy unikornis… Akit csak te látsz… Aki csak rád figyel…Aki ott terem\, ha szükséged van rá!Történetünk egy ilyen barátságról mesél\, egy embergyerek és egy Unikornis között! Előadásunk kevés szóval\, a zene\, az animáció eszközeivel viszi el a nézőket a fantázia birodalmába! \n\n\n\nTervező: Rófusz KingaZene: Kiss Erzsi \n\n\n\nA zeneszerző alkotótársai: Pápai István\, Dudás ZsomborZenei felvétel\, keverés\, mastering: Pápai István \n\n\n\nRendező: Bartal Kiss Rita \n\n\n\nJátszák: Soós Emőke\, Gyarmati Éva\, Czumbil Emőke\, Berndt Richárd \n\n\n\n4 éves kortól ajánljuk!
URL:https://napsugarbabszinhaz.hu/event/lathatatlan-jobarat-2/2025-03-04/
LOCATION:Napsugár Bábszínház\, Színház terem\, Gyulai út\, Békéscsaba\, Select an option…\, 5600
ATTACH;FMTTYPE=image/jpeg:https://napsugarbabszinhaz.hu/wp-content/uploads/2024/11/Lathatatlan_jobarat.jpg
ORGANIZER;CN="Napsug%C3%A1r B%C3%A1bsz%C3%ADnh%C3%A1z":MAILTO:napsugarbabszinhaz@gmail.com
END:VEVENT
BEGIN:VEVENT
DTSTART;TZID=Europe/Budapest:20250305T100000
DTEND;TZID=Europe/Budapest:20250305T110000
DTSTAMP:20260422T192009
CREATED:20250203T110547Z
LAST-MODIFIED:20250203T110758Z
UID:10000233-1741168800-1741172400@napsugarbabszinhaz.hu
SUMMARY:Láthatatlan jóbarát
DESCRIPTION:A jó barát szövetséges\, félszavakból is ért téged\, együtt nevet veled\, nála otthon érzed magad\, mindig számíthatsz rá\, ha baj van. De mi van akkor\, ha ez a barát csak a képzeletünkben létezik? Mondjuk\, egy unikornis… Akit csak te látsz… Aki csak rád figyel…Aki ott terem\, ha szükséged van rá!Történetünk egy ilyen barátságról mesél\, egy embergyerek és egy Unikornis között! Előadásunk kevés szóval\, a zene\, az animáció eszközeivel viszi el a nézőket a fantázia birodalmába! \n\n\n\nTervező: Rófusz KingaZene: Kiss Erzsi \n\n\n\nA zeneszerző alkotótársai: Pápai István\, Dudás ZsomborZenei felvétel\, keverés\, mastering: Pápai István \n\n\n\nRendező: Bartal Kiss Rita \n\n\n\nJátszák: Soós Emőke\, Gyarmati Éva\, Czumbil Emőke\, Berndt Richárd \n\n\n\n4 éves kortól ajánljuk!
URL:https://napsugarbabszinhaz.hu/event/lathatatlan-jobarat-2/2025-03-05/
LOCATION:Napsugár Bábszínház\, Színház terem\, Gyulai út\, Békéscsaba\, Select an option…\, 5600
ATTACH;FMTTYPE=image/jpeg:https://napsugarbabszinhaz.hu/wp-content/uploads/2024/11/Lathatatlan_jobarat.jpg
ORGANIZER;CN="Napsug%C3%A1r B%C3%A1bsz%C3%ADnh%C3%A1z":MAILTO:napsugarbabszinhaz@gmail.com
END:VEVENT
BEGIN:VEVENT
DTSTART;TZID=Europe/Budapest:20250306T100000
DTEND;TZID=Europe/Budapest:20250306T110000
DTSTAMP:20260422T192009
CREATED:20250203T110547Z
LAST-MODIFIED:20250203T110758Z
UID:10000234-1741255200-1741258800@napsugarbabszinhaz.hu
SUMMARY:Láthatatlan jóbarát
DESCRIPTION:A jó barát szövetséges\, félszavakból is ért téged\, együtt nevet veled\, nála otthon érzed magad\, mindig számíthatsz rá\, ha baj van. De mi van akkor\, ha ez a barát csak a képzeletünkben létezik? Mondjuk\, egy unikornis… Akit csak te látsz… Aki csak rád figyel…Aki ott terem\, ha szükséged van rá!Történetünk egy ilyen barátságról mesél\, egy embergyerek és egy Unikornis között! Előadásunk kevés szóval\, a zene\, az animáció eszközeivel viszi el a nézőket a fantázia birodalmába! \n\n\n\nTervező: Rófusz KingaZene: Kiss Erzsi \n\n\n\nA zeneszerző alkotótársai: Pápai István\, Dudás ZsomborZenei felvétel\, keverés\, mastering: Pápai István \n\n\n\nRendező: Bartal Kiss Rita \n\n\n\nJátszák: Soós Emőke\, Gyarmati Éva\, Czumbil Emőke\, Berndt Richárd \n\n\n\n4 éves kortól ajánljuk!
URL:https://napsugarbabszinhaz.hu/event/lathatatlan-jobarat-2/2025-03-06/
LOCATION:Napsugár Bábszínház\, Színház terem\, Gyulai út\, Békéscsaba\, Select an option…\, 5600
ATTACH;FMTTYPE=image/jpeg:https://napsugarbabszinhaz.hu/wp-content/uploads/2024/11/Lathatatlan_jobarat.jpg
ORGANIZER;CN="Napsug%C3%A1r B%C3%A1bsz%C3%ADnh%C3%A1z":MAILTO:napsugarbabszinhaz@gmail.com
END:VEVENT
BEGIN:VEVENT
DTSTART;TZID=Europe/Budapest:20250307T100000
DTEND;TZID=Europe/Budapest:20250307T110000
DTSTAMP:20260422T192009
CREATED:20250203T110547Z
LAST-MODIFIED:20250203T110758Z
UID:10000235-1741341600-1741345200@napsugarbabszinhaz.hu
SUMMARY:Láthatatlan jóbarát
DESCRIPTION:A jó barát szövetséges\, félszavakból is ért téged\, együtt nevet veled\, nála otthon érzed magad\, mindig számíthatsz rá\, ha baj van. De mi van akkor\, ha ez a barát csak a képzeletünkben létezik? Mondjuk\, egy unikornis… Akit csak te látsz… Aki csak rád figyel…Aki ott terem\, ha szükséged van rá!Történetünk egy ilyen barátságról mesél\, egy embergyerek és egy Unikornis között! Előadásunk kevés szóval\, a zene\, az animáció eszközeivel viszi el a nézőket a fantázia birodalmába! \n\n\n\nTervező: Rófusz KingaZene: Kiss Erzsi \n\n\n\nA zeneszerző alkotótársai: Pápai István\, Dudás ZsomborZenei felvétel\, keverés\, mastering: Pápai István \n\n\n\nRendező: Bartal Kiss Rita \n\n\n\nJátszák: Soós Emőke\, Gyarmati Éva\, Czumbil Emőke\, Berndt Richárd \n\n\n\n4 éves kortól ajánljuk!
URL:https://napsugarbabszinhaz.hu/event/lathatatlan-jobarat-2/2025-03-07/
LOCATION:Napsugár Bábszínház\, Színház terem\, Gyulai út\, Békéscsaba\, Select an option…\, 5600
ATTACH;FMTTYPE=image/jpeg:https://napsugarbabszinhaz.hu/wp-content/uploads/2024/11/Lathatatlan_jobarat.jpg
ORGANIZER;CN="Napsug%C3%A1r B%C3%A1bsz%C3%ADnh%C3%A1z":MAILTO:napsugarbabszinhaz@gmail.com
END:VEVENT
BEGIN:VEVENT
DTSTART;TZID=Europe/Budapest:20250311T140000
DTEND;TZID=Europe/Budapest:20250311T150000
DTSTAMP:20260422T192009
CREATED:20250203T132433Z
LAST-MODIFIED:20250203T133022Z
UID:10000237-1741701600-1741705200@napsugarbabszinhaz.hu
SUMMARY:János vitéz
DESCRIPTION:Ariel Ifjúsági és Gyermekszínház vendégelőadása\, Marosvásárhely \n\n\n\n\n\nElőadja:SZABÓ DÁNIELZenészek:Cseke PéterDull JánosGönczy Katalin \n\n\n\nHomokanimáció: Cakó FerencZeneszerző: Kovács KárolyTervező: Barabás Olga\, Iszlai Erika \n\n\n\nRendező: BARABÁS OLGAKi ne ismerné az árva pársztorlegény\, Kukorica Jancsi történetét\, akit a sors elszakít szerelmétől\, és akiből világhíres dalia\, János vitéz lesz? De akárhány kaland és hősi küzdelem várja őt vándorútján\, János vitéz mégsem felejti el Iluska iránti szerelmét – míg végül Tündérországban\, az örök boldogság hazájában újra meg nem találja őt.A Petőfi Sándor születésének 200. évfordulója alkalmából készült előadásban a teljes mű elhangzik\, élő zene és vetített homokanimáció kíséretében. \n\n\n\n \n\n\n\n \n\n\n\n \n\n\n\nAz előadást 10 éven felülieknek ajánljuk!
URL:https://napsugarbabszinhaz.hu/event/janos-vitez/
LOCATION:Napsugár Bábszínház\, Színház terem\, Gyulai út\, Békéscsaba\, 16655874-2-04\, 5600
ATTACH;FMTTYPE=image/jpeg:https://napsugarbabszinhaz.hu/wp-content/uploads/2025/02/Janos_vitez_01.jpg
END:VEVENT
BEGIN:VEVENT
DTSTART;TZID=Europe/Budapest:20250323T160000
DTEND;TZID=Europe/Budapest:20250323T170000
DTSTAMP:20260422T192009
CREATED:20250203T111152Z
LAST-MODIFIED:20250220T112247Z
UID:10000236-1742745600-1742749200@napsugarbabszinhaz.hu
SUMMARY:Pöttöm pöttyön pöttyös pötty
DESCRIPTION:BUDAPEST\, Lóvasút \n\n\n\n\n\nSzínes pöttyös párnákból hogyan lesz elefánt\, oroszlán\, zsiráf\, egér és még sok-sok állat? \n\n\n\nVarázslatos manókezek gyúrják\, csavarják\, forgatják\, míg újabb és újabb meglepetés-állat kerül ki színes kuckójukból. Különböző   hangszerek szólalnak meg egy-egy állat karakteréhez igazodva. Ritmusjáték\, taps és tánc\, szórakoztató átváltozások teszik színessé a figurák megjelenését. Izgalmas tárgyjáték a legkisebbeknek. \n\n\n\nAz előadást 0-4 éves korig ajánljuk! \n\n\n\n \n\n\n\nJátsszák: Biró Gyula\, Czumbil Emőke/Soós Emőke\, Czumbil Örs \n\n\n\nZene: Lovas Gábor \n\n\n\nTervező: L. Deák Réka \n\n\n\nRendezte: Csortán Zsóka
URL:https://napsugarbabszinhaz.hu/event/pottom-pottyon-pottyos-potty-2/
LOCATION:Lóvasút\, Zugligeti út 64.\, 1121 Budapest
ATTACH;FMTTYPE=image/jpeg:https://napsugarbabszinhaz.hu/wp-content/uploads/2024/11/Pottyos.jpg
END:VEVENT
END:VCALENDAR