BEGIN:VCALENDAR
VERSION:2.0
PRODID:-//Napsugár Bábszínház - ECPv6.15.20//NONSGML v1.0//EN
CALSCALE:GREGORIAN
METHOD:PUBLISH
X-WR-CALNAME:Napsugár Bábszínház
X-ORIGINAL-URL:https://napsugarbabszinhaz.hu
X-WR-CALDESC:Események Napsugár Bábszínház
REFRESH-INTERVAL;VALUE=DURATION:PT1H
X-Robots-Tag:noindex
X-PUBLISHED-TTL:PT1H
BEGIN:VTIMEZONE
TZID:Europe/Budapest
BEGIN:DAYLIGHT
TZOFFSETFROM:+0100
TZOFFSETTO:+0200
TZNAME:CEST
DTSTART:20250330T010000
END:DAYLIGHT
BEGIN:STANDARD
TZOFFSETFROM:+0200
TZOFFSETTO:+0100
TZNAME:CET
DTSTART:20251026T010000
END:STANDARD
BEGIN:DAYLIGHT
TZOFFSETFROM:+0100
TZOFFSETTO:+0200
TZNAME:CEST
DTSTART:20260329T010000
END:DAYLIGHT
BEGIN:STANDARD
TZOFFSETFROM:+0200
TZOFFSETTO:+0100
TZNAME:CET
DTSTART:20261025T010000
END:STANDARD
BEGIN:DAYLIGHT
TZOFFSETFROM:+0100
TZOFFSETTO:+0200
TZNAME:CEST
DTSTART:20270328T010000
END:DAYLIGHT
BEGIN:STANDARD
TZOFFSETFROM:+0200
TZOFFSETTO:+0100
TZNAME:CET
DTSTART:20271031T010000
END:STANDARD
END:VTIMEZONE
BEGIN:VEVENT
DTSTART;TZID=Europe/Budapest:20260425T100000
DTEND;TZID=Europe/Budapest:20260425T110000
DTSTAMP:20260419T150138
CREATED:20260326T132945Z
LAST-MODIFIED:20260326T133112Z
UID:10000550-1777111200-1777114800@napsugarbabszinhaz.hu
SUMMARY:HEJ\, TULIPÁN!
DESCRIPTION:GYÁL \n\n\n\nGyáli Arany János Közösségi Ház és Városi Könyvtár \n\n\n\n\n\n\n\n\n\nHogyan alakul ki a VILÁG? Járjuk körbe együtt! A népi motívumokra épülő játék során megteremtődik az ég\, a föld\, a Nap\, a Hold\, a csillagok\, a vizek… virágok\, állatok. Gyere el\, és teremtsünk együtt egy színes VILÁGOT! \n\n\n\nAz előadás 4 éves korig ajánlott!
URL:https://napsugarbabszinhaz.hu/event/hej-tulipan-5/
ATTACH;FMTTYPE=image/png:https://napsugarbabszinhaz.hu/wp-content/uploads/2026/01/utazunk.png
END:VEVENT
END:VCALENDAR