BEGIN:VCALENDAR
VERSION:2.0
PRODID:-//Napsugár Bábszínház - ECPv6.15.20//NONSGML v1.0//EN
CALSCALE:GREGORIAN
METHOD:PUBLISH
X-ORIGINAL-URL:https://napsugarbabszinhaz.hu
X-WR-CALDESC:Események Napsugár Bábszínház
REFRESH-INTERVAL;VALUE=DURATION:PT1H
X-Robots-Tag:noindex
X-PUBLISHED-TTL:PT1H
BEGIN:VTIMEZONE
TZID:Europe/Budapest
BEGIN:DAYLIGHT
TZOFFSETFROM:+0100
TZOFFSETTO:+0200
TZNAME:CEST
DTSTART:20240331T010000
END:DAYLIGHT
BEGIN:STANDARD
TZOFFSETFROM:+0200
TZOFFSETTO:+0100
TZNAME:CET
DTSTART:20241027T010000
END:STANDARD
BEGIN:DAYLIGHT
TZOFFSETFROM:+0100
TZOFFSETTO:+0200
TZNAME:CEST
DTSTART:20250330T010000
END:DAYLIGHT
BEGIN:STANDARD
TZOFFSETFROM:+0200
TZOFFSETTO:+0100
TZNAME:CET
DTSTART:20251026T010000
END:STANDARD
BEGIN:DAYLIGHT
TZOFFSETFROM:+0100
TZOFFSETTO:+0200
TZNAME:CEST
DTSTART:20260329T010000
END:DAYLIGHT
BEGIN:STANDARD
TZOFFSETFROM:+0200
TZOFFSETTO:+0100
TZNAME:CET
DTSTART:20261025T010000
END:STANDARD
END:VTIMEZONE
BEGIN:VEVENT
DTSTART;TZID=Europe/Budapest:20250622T100000
DTEND;TZID=Europe/Budapest:20250622T110000
DTSTAMP:20260420T070150
CREATED:20250509T075338Z
LAST-MODIFIED:20250509T081929Z
UID:10000278-1750586400-1750590000@napsugarbabszinhaz.hu
SUMMARY:Kézzel-lábbal
DESCRIPTION:Griff Bábszínház\, Zalaegerszeg \n\n\n\n\n\n\n\nhttps://napsugarbabszinhaz.hu/kezzel-labbal/ \n\n\n\n\n\n0-4 éveseknek
URL:https://napsugarbabszinhaz.hu/event/kezzel-labbal/
ATTACH;FMTTYPE=image/jpeg:https://napsugarbabszinhaz.hu/wp-content/uploads/2025/04/4.jpg
END:VEVENT
BEGIN:VEVENT
DTSTART;TZID=Europe/Budapest:20250622T110000
DTEND;TZID=Europe/Budapest:20250622T120000
DTSTAMP:20260420T070150
CREATED:20250509T075736Z
LAST-MODIFIED:20250509T082012Z
UID:10000279-1750590000-1750593600@napsugarbabszinhaz.hu
SUMMARY:Az öreg király hagyatéka
DESCRIPTION:Udvarhely Bábműhely – Tomcsa Sándor Színház\, Székelyudvarhely \n\n\n\n\n\n\n\nhttps://napsugarbabszinhaz.hu/az-oreg-kiraly-hagyateka/ \n\n\n\n\n\n4+
URL:https://napsugarbabszinhaz.hu/event/az-oreg-kiraly-hagyateka/
ATTACH;FMTTYPE=image/jpeg:https://napsugarbabszinhaz.hu/wp-content/uploads/2025/04/5-3.jpg
END:VEVENT
BEGIN:VEVENT
DTSTART;TZID=Europe/Budapest:20250622T160000
DTEND;TZID=Europe/Budapest:20250622T170000
DTSTAMP:20260420T070150
CREATED:20250509T082435Z
LAST-MODIFIED:20250509T082439Z
UID:10000280-1750608000-1750611600@napsugarbabszinhaz.hu
SUMMARY:Sárkányölő Sebestyén
DESCRIPTION:Kabóca Bábszínház\, Veszprém \n\n\n\n\n\n\n\nhttps://napsugarbabszinhaz.hu/sarkanyolo-sebestyen/ \n\n\n\n\n\n4+
URL:https://napsugarbabszinhaz.hu/event/sarkanyolo-sebestyen/
ATTACH;FMTTYPE=image/jpeg:https://napsugarbabszinhaz.hu/wp-content/uploads/2025/04/1-4.jpg
END:VEVENT
BEGIN:VEVENT
DTSTART;TZID=Europe/Budapest:20250622T173000
DTEND;TZID=Europe/Budapest:20250622T183000
DTSTAMP:20260420T070150
CREATED:20250509T082739Z
LAST-MODIFIED:20250509T082742Z
UID:10000281-1750613400-1750617000@napsugarbabszinhaz.hu
SUMMARY:Vitéz László és az elátkozott malom
DESCRIPTION:Pályi János\, BábSzínTér\, Kaposvár \n\n\n\n\n\n\n\nhttps://napsugarbabszinhaz.hu/vitez-laszlo-es-az-elatkozott-malom/ \n\n\n\n\n\n3+
URL:https://napsugarbabszinhaz.hu/event/vitez-laszlo-es-az-elatkozott-malom/
ATTACH;FMTTYPE=image/jpeg:https://napsugarbabszinhaz.hu/wp-content/uploads/2025/04/2-5.jpg
END:VEVENT
BEGIN:VEVENT
DTSTART;TZID=Europe/Budapest:20250622T180000
DTEND;TZID=Europe/Budapest:20250622T190000
DTSTAMP:20260420T070150
CREATED:20250509T082852Z
LAST-MODIFIED:20250616T131638Z
UID:10000282-1750615200-1750618800@napsugarbabszinhaz.hu
SUMMARY:Fesztivál zárás
DESCRIPTION:
URL:https://napsugarbabszinhaz.hu/event/fesztival-zaras-koncert/
ATTACH;FMTTYPE=image/jpeg:https://napsugarbabszinhaz.hu/wp-content/uploads/2025/04/babfesztival-1.jpg
END:VEVENT
END:VCALENDAR