BEGIN:VCALENDAR
VERSION:2.0
PRODID:-//Napsugár Bábszínház - ECPv6.15.20//NONSGML v1.0//EN
CALSCALE:GREGORIAN
METHOD:PUBLISH
X-ORIGINAL-URL:https://napsugarbabszinhaz.hu
X-WR-CALDESC:Események Napsugár Bábszínház
REFRESH-INTERVAL;VALUE=DURATION:PT1H
X-Robots-Tag:noindex
X-PUBLISHED-TTL:PT1H
BEGIN:VTIMEZONE
TZID:Europe/Budapest
BEGIN:DAYLIGHT
TZOFFSETFROM:+0100
TZOFFSETTO:+0200
TZNAME:CEST
DTSTART:20240331T010000
END:DAYLIGHT
BEGIN:STANDARD
TZOFFSETFROM:+0200
TZOFFSETTO:+0100
TZNAME:CET
DTSTART:20241027T010000
END:STANDARD
BEGIN:DAYLIGHT
TZOFFSETFROM:+0100
TZOFFSETTO:+0200
TZNAME:CEST
DTSTART:20250330T010000
END:DAYLIGHT
BEGIN:STANDARD
TZOFFSETFROM:+0200
TZOFFSETTO:+0100
TZNAME:CET
DTSTART:20251026T010000
END:STANDARD
BEGIN:DAYLIGHT
TZOFFSETFROM:+0100
TZOFFSETTO:+0200
TZNAME:CEST
DTSTART:20260329T010000
END:DAYLIGHT
BEGIN:STANDARD
TZOFFSETFROM:+0200
TZOFFSETTO:+0100
TZNAME:CET
DTSTART:20261025T010000
END:STANDARD
END:VTIMEZONE
BEGIN:VEVENT
DTSTART;TZID=Europe/Budapest:20250620T110000
DTEND;TZID=Europe/Budapest:20250620T120000
DTSTAMP:20260420T051049
CREATED:20250508T130611Z
LAST-MODIFIED:20250509T080640Z
UID:10000270-1750417200-1750420800@napsugarbabszinhaz.hu
SUMMARY:Tudja a manó!
DESCRIPTION:Budapest \n\n\n\n\n\n\n\nhttps://napsugarbabszinhaz.hu/tudja-a-mano/ \n\n\n\n\n\n4+
URL:https://napsugarbabszinhaz.hu/event/tudja-a-mano/
ATTACH;FMTTYPE=image/jpeg:https://napsugarbabszinhaz.hu/wp-content/uploads/2025/04/Tudja_a_mano_3.jpg
END:VEVENT
BEGIN:VEVENT
DTSTART;TZID=Europe/Budapest:20250620T170000
DTEND;TZID=Europe/Budapest:20250620T180000
DTSTAMP:20260420T051049
CREATED:20250508T132518Z
LAST-MODIFIED:20250509T080714Z
UID:10000271-1750438800-1750442400@napsugarbabszinhaz.hu
SUMMARY:Rongyos mese
DESCRIPTION:Valakik Társulata\, Békéscsaba \n\n\n\nOFF PROGRAM \n\n\n\n\n\nhttps://napsugarbabszinhaz.hu/rongyos-mese/
URL:https://napsugarbabszinhaz.hu/event/rongyos-mese/
END:VEVENT
BEGIN:VEVENT
DTSTART;TZID=Europe/Budapest:20250620T180000
DTEND;TZID=Europe/Budapest:20250620T190000
DTSTAMP:20260420T051049
CREATED:20250508T132824Z
LAST-MODIFIED:20250519T094532Z
UID:10000272-1750442400-1750446000@napsugarbabszinhaz.hu
SUMMARY:City Of Lights
DESCRIPTION:David Zuazola\, Spanyolország \n\n\n\nNapsugár Bábszínház\, Békéscsaba \n\n\n\n\n\n \n\n\n\n\n\n5+
URL:https://napsugarbabszinhaz.hu/event/city-of-lights/
END:VEVENT
BEGIN:VEVENT
DTSTART;TZID=Europe/Budapest:20250620T200000
DTEND;TZID=Europe/Budapest:20250620T210000
DTSTAMP:20260420T051049
CREATED:20250508T133334Z
LAST-MODIFIED:20250509T085320Z
UID:10000273-1750449600-1750453200@napsugarbabszinhaz.hu
SUMMARY:Edith and Me
DESCRIPTION:Yael Rasooly\, Izrael \n\n\n\n\n\n \n\n\n\n\n\n16+
URL:https://napsugarbabszinhaz.hu/event/edith-and-me/
ATTACH;FMTTYPE=image/jpeg:https://napsugarbabszinhaz.hu/wp-content/uploads/2025/05/1-1.jpg
END:VEVENT
END:VCALENDAR