BEGIN:VCALENDAR
VERSION:2.0
PRODID:-//Napsugár Bábszínház - ECPv6.15.20//NONSGML v1.0//EN
CALSCALE:GREGORIAN
METHOD:PUBLISH
X-WR-CALNAME:Napsugár Bábszínház
X-ORIGINAL-URL:https://napsugarbabszinhaz.hu
X-WR-CALDESC:Események Napsugár Bábszínház
REFRESH-INTERVAL;VALUE=DURATION:PT1H
X-Robots-Tag:noindex
X-PUBLISHED-TTL:PT1H
BEGIN:VTIMEZONE
TZID:Europe/Budapest
BEGIN:DAYLIGHT
TZOFFSETFROM:+0100
TZOFFSETTO:+0200
TZNAME:CEST
DTSTART:20240331T010000
END:DAYLIGHT
BEGIN:STANDARD
TZOFFSETFROM:+0200
TZOFFSETTO:+0100
TZNAME:CET
DTSTART:20241027T010000
END:STANDARD
BEGIN:DAYLIGHT
TZOFFSETFROM:+0100
TZOFFSETTO:+0200
TZNAME:CEST
DTSTART:20250330T010000
END:DAYLIGHT
BEGIN:STANDARD
TZOFFSETFROM:+0200
TZOFFSETTO:+0100
TZNAME:CET
DTSTART:20251026T010000
END:STANDARD
BEGIN:DAYLIGHT
TZOFFSETFROM:+0100
TZOFFSETTO:+0200
TZNAME:CEST
DTSTART:20260329T010000
END:DAYLIGHT
BEGIN:STANDARD
TZOFFSETFROM:+0200
TZOFFSETTO:+0100
TZNAME:CET
DTSTART:20261025T010000
END:STANDARD
END:VTIMEZONE
BEGIN:VEVENT
DTSTART;TZID=Europe/Budapest:20250311T140000
DTEND;TZID=Europe/Budapest:20250311T150000
DTSTAMP:20260422T204312
CREATED:20250203T132433Z
LAST-MODIFIED:20250203T133022Z
UID:10000237-1741701600-1741705200@napsugarbabszinhaz.hu
SUMMARY:János vitéz
DESCRIPTION:Ariel Ifjúsági és Gyermekszínház vendégelőadása\, Marosvásárhely \n\n\n\n\n\nElőadja:SZABÓ DÁNIELZenészek:Cseke PéterDull JánosGönczy Katalin \n\n\n\nHomokanimáció: Cakó FerencZeneszerző: Kovács KárolyTervező: Barabás Olga\, Iszlai Erika \n\n\n\nRendező: BARABÁS OLGAKi ne ismerné az árva pársztorlegény\, Kukorica Jancsi történetét\, akit a sors elszakít szerelmétől\, és akiből világhíres dalia\, János vitéz lesz? De akárhány kaland és hősi küzdelem várja őt vándorútján\, János vitéz mégsem felejti el Iluska iránti szerelmét – míg végül Tündérországban\, az örök boldogság hazájában újra meg nem találja őt.A Petőfi Sándor születésének 200. évfordulója alkalmából készült előadásban a teljes mű elhangzik\, élő zene és vetített homokanimáció kíséretében. \n\n\n\n \n\n\n\n \n\n\n\n \n\n\n\nAz előadást 10 éven felülieknek ajánljuk!
URL:https://napsugarbabszinhaz.hu/event/janos-vitez/
LOCATION:Napsugár Bábszínház\, Színház terem\, Gyulai út\, Békéscsaba\, 16655874-2-04\, 5600
ATTACH;FMTTYPE=image/jpeg:https://napsugarbabszinhaz.hu/wp-content/uploads/2025/02/Janos_vitez_01.jpg
END:VEVENT
END:VCALENDAR