BEGIN:VCALENDAR
VERSION:2.0
PRODID:-//Napsugár Bábszínház - ECPv6.15.20//NONSGML v1.0//EN
CALSCALE:GREGORIAN
METHOD:PUBLISH
X-ORIGINAL-URL:https://napsugarbabszinhaz.hu
X-WR-CALDESC:Események Napsugár Bábszínház
REFRESH-INTERVAL;VALUE=DURATION:PT1H
X-Robots-Tag:noindex
X-PUBLISHED-TTL:PT1H
BEGIN:VTIMEZONE
TZID:Europe/Budapest
BEGIN:DAYLIGHT
TZOFFSETFROM:+0100
TZOFFSETTO:+0200
TZNAME:CEST
DTSTART:20240331T010000
END:DAYLIGHT
BEGIN:STANDARD
TZOFFSETFROM:+0200
TZOFFSETTO:+0100
TZNAME:CET
DTSTART:20241027T010000
END:STANDARD
BEGIN:DAYLIGHT
TZOFFSETFROM:+0100
TZOFFSETTO:+0200
TZNAME:CEST
DTSTART:20250330T010000
END:DAYLIGHT
BEGIN:STANDARD
TZOFFSETFROM:+0200
TZOFFSETTO:+0100
TZNAME:CET
DTSTART:20251026T010000
END:STANDARD
BEGIN:DAYLIGHT
TZOFFSETFROM:+0100
TZOFFSETTO:+0200
TZNAME:CEST
DTSTART:20260329T010000
END:DAYLIGHT
BEGIN:STANDARD
TZOFFSETFROM:+0200
TZOFFSETTO:+0100
TZNAME:CET
DTSTART:20261025T010000
END:STANDARD
END:VTIMEZONE
BEGIN:VEVENT
DTSTART;TZID=Europe/Budapest:20250226T100000
DTEND;TZID=Europe/Budapest:20250226T110000
DTSTAMP:20260422T221549
CREATED:20250203T110547Z
LAST-MODIFIED:20250203T110758Z
UID:10000228-1740564000-1740567600@napsugarbabszinhaz.hu
SUMMARY:Láthatatlan jóbarát
DESCRIPTION:A jó barát szövetséges\, félszavakból is ért téged\, együtt nevet veled\, nála otthon érzed magad\, mindig számíthatsz rá\, ha baj van. De mi van akkor\, ha ez a barát csak a képzeletünkben létezik? Mondjuk\, egy unikornis… Akit csak te látsz… Aki csak rád figyel…Aki ott terem\, ha szükséged van rá!Történetünk egy ilyen barátságról mesél\, egy embergyerek és egy Unikornis között! Előadásunk kevés szóval\, a zene\, az animáció eszközeivel viszi el a nézőket a fantázia birodalmába! \n\n\n\nTervező: Rófusz KingaZene: Kiss Erzsi \n\n\n\nA zeneszerző alkotótársai: Pápai István\, Dudás ZsomborZenei felvétel\, keverés\, mastering: Pápai István \n\n\n\nRendező: Bartal Kiss Rita \n\n\n\nJátszák: Soós Emőke\, Gyarmati Éva\, Czumbil Emőke\, Berndt Richárd \n\n\n\n4 éves kortól ajánljuk!
URL:https://napsugarbabszinhaz.hu/event/lathatatlan-jobarat-2/2025-02-26/
LOCATION:Napsugár Bábszínház\, Színház terem\, Gyulai út\, Békéscsaba\, Select an option…\, 5600
ATTACH;FMTTYPE=image/jpeg:https://napsugarbabszinhaz.hu/wp-content/uploads/2024/11/Lathatatlan_jobarat.jpg
ORGANIZER;CN="Napsug%C3%A1r B%C3%A1bsz%C3%ADnh%C3%A1z":MAILTO:napsugarbabszinhaz@gmail.com
END:VEVENT
END:VCALENDAR