BEGIN:VCALENDAR
VERSION:2.0
PRODID:-//Napsugár Bábszínház - ECPv6.15.20//NONSGML v1.0//EN
CALSCALE:GREGORIAN
METHOD:PUBLISH
X-WR-CALNAME:Napsugár Bábszínház
X-ORIGINAL-URL:https://napsugarbabszinhaz.hu
X-WR-CALDESC:Események Napsugár Bábszínház
REFRESH-INTERVAL;VALUE=DURATION:PT1H
X-Robots-Tag:noindex
X-PUBLISHED-TTL:PT1H
BEGIN:VTIMEZONE
TZID:Europe/Budapest
BEGIN:DAYLIGHT
TZOFFSETFROM:+0100
TZOFFSETTO:+0200
TZNAME:CEST
DTSTART:20240331T010000
END:DAYLIGHT
BEGIN:STANDARD
TZOFFSETFROM:+0200
TZOFFSETTO:+0100
TZNAME:CET
DTSTART:20241027T010000
END:STANDARD
BEGIN:DAYLIGHT
TZOFFSETFROM:+0100
TZOFFSETTO:+0200
TZNAME:CEST
DTSTART:20250330T010000
END:DAYLIGHT
BEGIN:STANDARD
TZOFFSETFROM:+0200
TZOFFSETTO:+0100
TZNAME:CET
DTSTART:20251026T010000
END:STANDARD
BEGIN:DAYLIGHT
TZOFFSETFROM:+0100
TZOFFSETTO:+0200
TZNAME:CEST
DTSTART:20260329T010000
END:DAYLIGHT
BEGIN:STANDARD
TZOFFSETFROM:+0200
TZOFFSETTO:+0100
TZNAME:CET
DTSTART:20261025T010000
END:STANDARD
END:VTIMEZONE
BEGIN:VEVENT
DTSTART;TZID=Europe/Budapest:20250222T160000
DTEND;TZID=Europe/Budapest:20250222T170000
DTSTAMP:20260424T111725
CREATED:20241121T104430Z
LAST-MODIFIED:20250217T064535Z
UID:10000215-1740240000-1740243600@napsugarbabszinhaz.hu
SUMMARY:Hej\, tulipán!
DESCRIPTION:Hogyan alakul ki a VILÁG? Járjuk körbe együtt! A népi motívumokra épülő játék során megteremtődik az ég\, a föld\, a Nap\, a Hold\, a csillagok\, a vizek… virágok\, állatok. Gyere el\, és teremtsünk együtt egy színes VILÁGOT! \n\n\n\n \n\n\n\nzene: Lovas Gábortervező: L. Deák Rékarendező: Csortán Erzsébetjátssza: Czumbil Emőke \n\n\n\nAz előadás 4 éves korig ajánlott!
URL:https://napsugarbabszinhaz.hu/event/hej-tulipan-3/
LOCATION:Napsugár Bábszínház Kis-terem\, Gyulai út 2/1.\, Békéscsaba\, 5600
ATTACH;FMTTYPE=image/jpeg:https://napsugarbabszinhaz.hu/wp-content/uploads/2024/04/Hej_tulipan.jpg
ORGANIZER;CN="Napsug%C3%A1r B%C3%A1bsz%C3%ADnh%C3%A1z":MAILTO:napsugarbabszinhaz@gmail.com
END:VEVENT
END:VCALENDAR