BEGIN:VCALENDAR
VERSION:2.0
PRODID:-//Napsugár Bábszínház - ECPv6.15.20//NONSGML v1.0//EN
CALSCALE:GREGORIAN
METHOD:PUBLISH
X-WR-CALNAME:Napsugár Bábszínház
X-ORIGINAL-URL:https://napsugarbabszinhaz.hu
X-WR-CALDESC:Események Napsugár Bábszínház
REFRESH-INTERVAL;VALUE=DURATION:PT1H
X-Robots-Tag:noindex
X-PUBLISHED-TTL:PT1H
BEGIN:VTIMEZONE
TZID:UTC
BEGIN:STANDARD
TZOFFSETFROM:+0000
TZOFFSETTO:+0000
TZNAME:UTC
DTSTART:20230101T000000
END:STANDARD
END:VTIMEZONE
BEGIN:VEVENT
DTSTART;TZID=UTC:20240406T160000
DTEND;TZID=UTC:20240406T170000
DTSTAMP:20260425T182228
CREATED:20240208T065854Z
LAST-MODIFIED:20240403T075151Z
UID:10000006-1712419200-1712422800@napsugarbabszinhaz.hu
SUMMARY:Paprika Jancsi
DESCRIPTION:A kesztyűs bábos\, paravános előadás az örökké jókedvű és mindig segítőkész Paprika Jancsiról szól\, aki elindul megkeresni elveszett barátját\, Léggömböcskét. Útközben találkozik a cicával\, az egerekkel\, a malaccal\, akiktől megkérdi\, látták-e az elveszett gömbölyű és gyönyörű\, sárga léggömböt. Igen ám\, csak mindenkinek mást jelent ez a különleges jelző. A boldogságot ugyanis mindenki máshol és másban leli meg. Útja során felbukkan a róka meg a farkas\, akik igyekeznek meggátolni őt a keresésben. Végül megmenekül (fakanalával ellátja az ellenség baját) és megtalálja elveszett barátját\, a Léggömböt. A történet végére hazajutnak a folyton síró Bömbőkéhez\, akivel boldogan és vidáman játszanak az idők végezetéig. Juhhhé!\n \nÍró: Kovács PetraBábosok: Biró Gyula\, Czumbil Örs és Gyarmati ÉvaBáb- és díszlet tervező: Néder JankaZene: Lovas GáborRendező: Soós Emőke\n \n4 éves kortól ajánljuk!
URL:https://napsugarbabszinhaz.hu/event/paprika-jancsi/
LOCATION:Napsugár Bábszínház Nagy-terem\, Gyulai út 2/1.\, Békéscsaba\, 5600
CATEGORIES:Napsugaras délutánok
ATTACH;FMTTYPE=image/jpeg:https://napsugarbabszinhaz.hu/wp-content/uploads/2024/02/IMG_9859-scaled.jpg
END:VEVENT
END:VCALENDAR