BEGIN:VCALENDAR
VERSION:2.0
PRODID:-//Napsugár Bábszínház - ECPv6.15.20//NONSGML v1.0//EN
CALSCALE:GREGORIAN
METHOD:PUBLISH
X-WR-CALNAME:Napsugár Bábszínház
X-ORIGINAL-URL:https://napsugarbabszinhaz.hu
X-WR-CALDESC:Események Napsugár Bábszínház
REFRESH-INTERVAL;VALUE=DURATION:PT1H
X-Robots-Tag:noindex
X-PUBLISHED-TTL:PT1H
BEGIN:VTIMEZONE
TZID:UTC
BEGIN:STANDARD
TZOFFSETFROM:+0000
TZOFFSETTO:+0000
TZNAME:UTC
DTSTART:20230101T000000
END:STANDARD
END:VTIMEZONE
BEGIN:VEVENT
DTSTART;TZID=UTC:20240321T190000
DTEND;TZID=UTC:20240321T200000
DTSTAMP:20260425T171029
CREATED:20240227T123456Z
LAST-MODIFIED:20240313T125423Z
UID:10000016-1711047600-1711051200@napsugarbabszinhaz.hu
SUMMARY:Paprika Jancsi
DESCRIPTION:PARAVÁNON INNEN ÉS TÚL \n\n\n\n \n\n\n\n\n\n\nParavánon innen és túl – bepillantás a kulisszák mögé…. \n  \nA Bábszínházi világnap alkalmából most felnőtteket invitálunk Paprika Jancsi előadásunkra.Felnőtteknek a Paprika Jancsi? Igen!Paravánon innen és túl! Megnézheted hogy zajlik a háttérben egy kesztyűsbábos előadás. Párhuzamosan két síkon futnak az események. Miközben bábszínészeink a megszokott módon játszanak\, a néző kivetítőn figyelheti\, mi történik a háttérben\, a színfalak mögött. \nAz előadást követően pedig a rendezővel és a színészekkel beszélgetünk. \n  \nÍró: Kovács PetraBábosok: Biró Gyula\, Czumbil Örs és Gyarmati ÉvaBáb- és díszlet tervező: Néder JankaZene: Lovas GáborRendező: Soós Emőke
URL:https://napsugarbabszinhaz.hu/event/paprika-jancsi-4/
LOCATION:Napsugár Bábszínház Nagy-terem\, Gyulai út 2/1.\, Békéscsaba\, 5600
CATEGORIES:Felnőtt előadások
ATTACH;FMTTYPE=image/jpeg:https://napsugarbabszinhaz.hu/wp-content/uploads/2024/02/IMG_9859-scaled.jpg
ORGANIZER;CN="Napsug%C3%A1r B%C3%A1bsz%C3%ADnh%C3%A1z":MAILTO:napsugarbabszinhaz@gmail.com
END:VEVENT
END:VCALENDAR