BEGIN:VCALENDAR
VERSION:2.0
PRODID:-//Napsugár Bábszínház - ECPv6.15.20//NONSGML v1.0//EN
CALSCALE:GREGORIAN
METHOD:PUBLISH
X-WR-CALNAME:Napsugár Bábszínház
X-ORIGINAL-URL:https://napsugarbabszinhaz.hu
X-WR-CALDESC:Események Napsugár Bábszínház
REFRESH-INTERVAL;VALUE=DURATION:PT1H
X-Robots-Tag:noindex
X-PUBLISHED-TTL:PT1H
BEGIN:VTIMEZONE
TZID:UTC
BEGIN:STANDARD
TZOFFSETFROM:+0000
TZOFFSETTO:+0000
TZNAME:UTC
DTSTART:20230101T000000
END:STANDARD
END:VTIMEZONE
BEGIN:VEVENT
DTSTART;TZID=UTC:20240222T100000
DTEND;TZID=UTC:20240222T110000
DTSTAMP:20260425T171001
CREATED:20240222T124730Z
LAST-MODIFIED:20240222T125036Z
UID:10000008-1708596000-1708599600@napsugarbabszinhaz.hu
SUMMARY:Pöttöm pöttyön pöttyös pötty
DESCRIPTION:Színes pöttyös párnákból hogyan lesz elefánt\, oroszlán\, zsiráf\, egér és még sok-sok állat? \n\n\n\n\n\nVarázslatos  manókezek  gyúrják\, csavarják\, forgatják\, míg újabb és újabb meglepetés-állat  kerül ki a színes kuckójukból. Hangulatos élőzene kíséri tevékenységüket\,  különböző   hangszerek szólalnak meg egy-egy állat karakteréhez igazodva. Ritmusjáték\, taps és tánc\, szórakoztató átváltozások teszik színessé a figurák megjelenését. Ezeket a játékokat a csecsemők és kisgyermekek értelmi\, érzelmi igényeihez igazodva építettük fel\, időtartama max.25 perc\, ezt  25 perc játék  követi. \n\n\n\nVárjuk szeretettel a pöttöm pöttyösöket!
URL:https://napsugarbabszinhaz.hu/event/pottom-pottyon-pottyos-potty/
END:VEVENT
END:VCALENDAR